BEGIN:VCALENDAR
VERSION:2.0
PRODID:-//neuruppin.net - ECPv6.0.13.1//NONSGML v1.0//EN
CALSCALE:GREGORIAN
METHOD:PUBLISH
X-WR-CALNAME:neuruppin.net
X-ORIGINAL-URL:https://neuruppin.net
X-WR-CALDESC:Veranstaltungen für neuruppin.net
REFRESH-INTERVAL;VALUE=DURATION:PT1H
X-Robots-Tag:noindex
X-PUBLISHED-TTL:PT1H
BEGIN:VTIMEZONE
TZID:Europe/Berlin
BEGIN:DAYLIGHT
TZOFFSETFROM:+0100
TZOFFSETTO:+0200
TZNAME:CEST
DTSTART:20280326T010000
END:DAYLIGHT
BEGIN:STANDARD
TZOFFSETFROM:+0200
TZOFFSETTO:+0100
TZNAME:CET
DTSTART:20281029T010000
END:STANDARD
BEGIN:DAYLIGHT
TZOFFSETFROM:+0100
TZOFFSETTO:+0200
TZNAME:CEST
DTSTART:20290325T010000
END:DAYLIGHT
BEGIN:STANDARD
TZOFFSETFROM:+0200
TZOFFSETTO:+0100
TZNAME:CET
DTSTART:20291028T010000
END:STANDARD
END:VTIMEZONE
BEGIN:VEVENT
DTSTART;TZID=Europe/Berlin:20280905T160000
DTEND;TZID=Europe/Berlin:20280905T213000
DTSTAMP:20260424T133350
CREATED:20260101T162410Z
LAST-MODIFIED:20260116T160603Z
UID:10014792-1851782400-1851802200@neuruppin.net
SUMMARY:Euphoria Dance Space - Kursangebot Neuruppin
DESCRIPTION:Euphoria Dance Space – Kursangebot (Hip Hop & Commercial)\n16:00 bis 17:00 Uhr – 6-9 Jahre \n17:00 bis 18:00 Uhr – 10-13 Jahre \n18:30 bis 19:30 Uhr – 14+ Jahre \n20:30 bis 21:30 Uhr – 30+ Jahre \n 
URL:https://neuruppin.net/event/euphoria-dance-space-kursangebot/2028-09-05/
LOCATION:Sportcenter Neuruppin\, Trenckmannstraße 1\, Neuruppin\, Brandenburg\, 16816\, Deutschland
CATEGORIES:Kinder,Tanz
ATTACH;FMTTYPE=image/png:https://neuruppin.net/wp-content/uploads/Logo-Euphoria-Dance-Space.png
ORGANIZER;CN="Euphoria%20Dance%20Space":MAILTO:info@euphoria-dance-space.de
END:VEVENT
BEGIN:VEVENT
DTSTART;TZID=Europe/Berlin:20280912T160000
DTEND;TZID=Europe/Berlin:20280912T213000
DTSTAMP:20260424T133350
CREATED:20260101T162410Z
LAST-MODIFIED:20260116T160603Z
UID:10014793-1852387200-1852407000@neuruppin.net
SUMMARY:Euphoria Dance Space - Kursangebot Neuruppin
DESCRIPTION:Euphoria Dance Space – Kursangebot (Hip Hop & Commercial)\n16:00 bis 17:00 Uhr – 6-9 Jahre \n17:00 bis 18:00 Uhr – 10-13 Jahre \n18:30 bis 19:30 Uhr – 14+ Jahre \n20:30 bis 21:30 Uhr – 30+ Jahre \n 
URL:https://neuruppin.net/event/euphoria-dance-space-kursangebot/2028-09-12/
LOCATION:Sportcenter Neuruppin\, Trenckmannstraße 1\, Neuruppin\, Brandenburg\, 16816\, Deutschland
CATEGORIES:Kinder,Tanz
ATTACH;FMTTYPE=image/png:https://neuruppin.net/wp-content/uploads/Logo-Euphoria-Dance-Space.png
ORGANIZER;CN="Euphoria%20Dance%20Space":MAILTO:info@euphoria-dance-space.de
END:VEVENT
BEGIN:VEVENT
DTSTART;TZID=Europe/Berlin:20280919T160000
DTEND;TZID=Europe/Berlin:20280919T213000
DTSTAMP:20260424T133350
CREATED:20260101T162410Z
LAST-MODIFIED:20260116T160603Z
UID:10014794-1852992000-1853011800@neuruppin.net
SUMMARY:Euphoria Dance Space - Kursangebot Neuruppin
DESCRIPTION:Euphoria Dance Space – Kursangebot (Hip Hop & Commercial)\n16:00 bis 17:00 Uhr – 6-9 Jahre \n17:00 bis 18:00 Uhr – 10-13 Jahre \n18:30 bis 19:30 Uhr – 14+ Jahre \n20:30 bis 21:30 Uhr – 30+ Jahre \n 
URL:https://neuruppin.net/event/euphoria-dance-space-kursangebot/2028-09-19/
LOCATION:Sportcenter Neuruppin\, Trenckmannstraße 1\, Neuruppin\, Brandenburg\, 16816\, Deutschland
CATEGORIES:Kinder,Tanz
ATTACH;FMTTYPE=image/png:https://neuruppin.net/wp-content/uploads/Logo-Euphoria-Dance-Space.png
ORGANIZER;CN="Euphoria%20Dance%20Space":MAILTO:info@euphoria-dance-space.de
END:VEVENT
BEGIN:VEVENT
DTSTART;TZID=Europe/Berlin:20280926T160000
DTEND;TZID=Europe/Berlin:20280926T213000
DTSTAMP:20260424T133350
CREATED:20260101T162410Z
LAST-MODIFIED:20260116T160603Z
UID:10014795-1853596800-1853616600@neuruppin.net
SUMMARY:Euphoria Dance Space - Kursangebot Neuruppin
DESCRIPTION:Euphoria Dance Space – Kursangebot (Hip Hop & Commercial)\n16:00 bis 17:00 Uhr – 6-9 Jahre \n17:00 bis 18:00 Uhr – 10-13 Jahre \n18:30 bis 19:30 Uhr – 14+ Jahre \n20:30 bis 21:30 Uhr – 30+ Jahre \n 
URL:https://neuruppin.net/event/euphoria-dance-space-kursangebot/2028-09-26/
LOCATION:Sportcenter Neuruppin\, Trenckmannstraße 1\, Neuruppin\, Brandenburg\, 16816\, Deutschland
CATEGORIES:Kinder,Tanz
ATTACH;FMTTYPE=image/png:https://neuruppin.net/wp-content/uploads/Logo-Euphoria-Dance-Space.png
ORGANIZER;CN="Euphoria%20Dance%20Space":MAILTO:info@euphoria-dance-space.de
END:VEVENT
BEGIN:VEVENT
DTSTART;TZID=Europe/Berlin:20281003T160000
DTEND;TZID=Europe/Berlin:20281003T213000
DTSTAMP:20260424T133350
CREATED:20260101T162410Z
LAST-MODIFIED:20260116T160603Z
UID:10014796-1854201600-1854221400@neuruppin.net
SUMMARY:Euphoria Dance Space - Kursangebot Neuruppin
DESCRIPTION:Euphoria Dance Space – Kursangebot (Hip Hop & Commercial)\n16:00 bis 17:00 Uhr – 6-9 Jahre \n17:00 bis 18:00 Uhr – 10-13 Jahre \n18:30 bis 19:30 Uhr – 14+ Jahre \n20:30 bis 21:30 Uhr – 30+ Jahre \n 
URL:https://neuruppin.net/event/euphoria-dance-space-kursangebot/2028-10-03/
LOCATION:Sportcenter Neuruppin\, Trenckmannstraße 1\, Neuruppin\, Brandenburg\, 16816\, Deutschland
CATEGORIES:Kinder,Tanz
ATTACH;FMTTYPE=image/png:https://neuruppin.net/wp-content/uploads/Logo-Euphoria-Dance-Space.png
ORGANIZER;CN="Euphoria%20Dance%20Space":MAILTO:info@euphoria-dance-space.de
END:VEVENT
BEGIN:VEVENT
DTSTART;TZID=Europe/Berlin:20281010T160000
DTEND;TZID=Europe/Berlin:20281010T213000
DTSTAMP:20260424T133350
CREATED:20260101T162410Z
LAST-MODIFIED:20260116T160603Z
UID:10014797-1854806400-1854826200@neuruppin.net
SUMMARY:Euphoria Dance Space - Kursangebot Neuruppin
DESCRIPTION:Euphoria Dance Space – Kursangebot (Hip Hop & Commercial)\n16:00 bis 17:00 Uhr – 6-9 Jahre \n17:00 bis 18:00 Uhr – 10-13 Jahre \n18:30 bis 19:30 Uhr – 14+ Jahre \n20:30 bis 21:30 Uhr – 30+ Jahre \n 
URL:https://neuruppin.net/event/euphoria-dance-space-kursangebot/2028-10-10/
LOCATION:Sportcenter Neuruppin\, Trenckmannstraße 1\, Neuruppin\, Brandenburg\, 16816\, Deutschland
CATEGORIES:Kinder,Tanz
ATTACH;FMTTYPE=image/png:https://neuruppin.net/wp-content/uploads/Logo-Euphoria-Dance-Space.png
ORGANIZER;CN="Euphoria%20Dance%20Space":MAILTO:info@euphoria-dance-space.de
END:VEVENT
BEGIN:VEVENT
DTSTART;TZID=Europe/Berlin:20281017T160000
DTEND;TZID=Europe/Berlin:20281017T213000
DTSTAMP:20260424T133350
CREATED:20260101T162410Z
LAST-MODIFIED:20260116T160603Z
UID:10014798-1855411200-1855431000@neuruppin.net
SUMMARY:Euphoria Dance Space - Kursangebot Neuruppin
DESCRIPTION:Euphoria Dance Space – Kursangebot (Hip Hop & Commercial)\n16:00 bis 17:00 Uhr – 6-9 Jahre \n17:00 bis 18:00 Uhr – 10-13 Jahre \n18:30 bis 19:30 Uhr – 14+ Jahre \n20:30 bis 21:30 Uhr – 30+ Jahre \n 
URL:https://neuruppin.net/event/euphoria-dance-space-kursangebot/2028-10-17/
LOCATION:Sportcenter Neuruppin\, Trenckmannstraße 1\, Neuruppin\, Brandenburg\, 16816\, Deutschland
CATEGORIES:Kinder,Tanz
ATTACH;FMTTYPE=image/png:https://neuruppin.net/wp-content/uploads/Logo-Euphoria-Dance-Space.png
ORGANIZER;CN="Euphoria%20Dance%20Space":MAILTO:info@euphoria-dance-space.de
END:VEVENT
BEGIN:VEVENT
DTSTART;TZID=Europe/Berlin:20281024T160000
DTEND;TZID=Europe/Berlin:20281024T213000
DTSTAMP:20260424T133350
CREATED:20260101T162410Z
LAST-MODIFIED:20260116T160603Z
UID:10014799-1856016000-1856035800@neuruppin.net
SUMMARY:Euphoria Dance Space - Kursangebot Neuruppin
DESCRIPTION:Euphoria Dance Space – Kursangebot (Hip Hop & Commercial)\n16:00 bis 17:00 Uhr – 6-9 Jahre \n17:00 bis 18:00 Uhr – 10-13 Jahre \n18:30 bis 19:30 Uhr – 14+ Jahre \n20:30 bis 21:30 Uhr – 30+ Jahre \n 
URL:https://neuruppin.net/event/euphoria-dance-space-kursangebot/2028-10-24/
LOCATION:Sportcenter Neuruppin\, Trenckmannstraße 1\, Neuruppin\, Brandenburg\, 16816\, Deutschland
CATEGORIES:Kinder,Tanz
ATTACH;FMTTYPE=image/png:https://neuruppin.net/wp-content/uploads/Logo-Euphoria-Dance-Space.png
ORGANIZER;CN="Euphoria%20Dance%20Space":MAILTO:info@euphoria-dance-space.de
END:VEVENT
BEGIN:VEVENT
DTSTART;TZID=Europe/Berlin:20281031T160000
DTEND;TZID=Europe/Berlin:20281031T213000
DTSTAMP:20260424T133350
CREATED:20260101T162410Z
LAST-MODIFIED:20260116T160603Z
UID:10014800-1856620800-1856640600@neuruppin.net
SUMMARY:Euphoria Dance Space - Kursangebot Neuruppin
DESCRIPTION:Euphoria Dance Space – Kursangebot (Hip Hop & Commercial)\n16:00 bis 17:00 Uhr – 6-9 Jahre \n17:00 bis 18:00 Uhr – 10-13 Jahre \n18:30 bis 19:30 Uhr – 14+ Jahre \n20:30 bis 21:30 Uhr – 30+ Jahre \n 
URL:https://neuruppin.net/event/euphoria-dance-space-kursangebot/2028-10-31/
LOCATION:Sportcenter Neuruppin\, Trenckmannstraße 1\, Neuruppin\, Brandenburg\, 16816\, Deutschland
CATEGORIES:Kinder,Tanz
ATTACH;FMTTYPE=image/png:https://neuruppin.net/wp-content/uploads/Logo-Euphoria-Dance-Space.png
ORGANIZER;CN="Euphoria%20Dance%20Space":MAILTO:info@euphoria-dance-space.de
END:VEVENT
BEGIN:VEVENT
DTSTART;TZID=Europe/Berlin:20281107T160000
DTEND;TZID=Europe/Berlin:20281107T213000
DTSTAMP:20260424T133350
CREATED:20260101T162410Z
LAST-MODIFIED:20260116T160603Z
UID:10014801-1857225600-1857245400@neuruppin.net
SUMMARY:Euphoria Dance Space - Kursangebot Neuruppin
DESCRIPTION:Euphoria Dance Space – Kursangebot (Hip Hop & Commercial)\n16:00 bis 17:00 Uhr – 6-9 Jahre \n17:00 bis 18:00 Uhr – 10-13 Jahre \n18:30 bis 19:30 Uhr – 14+ Jahre \n20:30 bis 21:30 Uhr – 30+ Jahre \n 
URL:https://neuruppin.net/event/euphoria-dance-space-kursangebot/2028-11-07/
LOCATION:Sportcenter Neuruppin\, Trenckmannstraße 1\, Neuruppin\, Brandenburg\, 16816\, Deutschland
CATEGORIES:Kinder,Tanz
ATTACH;FMTTYPE=image/png:https://neuruppin.net/wp-content/uploads/Logo-Euphoria-Dance-Space.png
ORGANIZER;CN="Euphoria%20Dance%20Space":MAILTO:info@euphoria-dance-space.de
END:VEVENT
BEGIN:VEVENT
DTSTART;TZID=Europe/Berlin:20281114T160000
DTEND;TZID=Europe/Berlin:20281114T213000
DTSTAMP:20260424T133350
CREATED:20260101T162410Z
LAST-MODIFIED:20260116T160603Z
UID:10014802-1857830400-1857850200@neuruppin.net
SUMMARY:Euphoria Dance Space - Kursangebot Neuruppin
DESCRIPTION:Euphoria Dance Space – Kursangebot (Hip Hop & Commercial)\n16:00 bis 17:00 Uhr – 6-9 Jahre \n17:00 bis 18:00 Uhr – 10-13 Jahre \n18:30 bis 19:30 Uhr – 14+ Jahre \n20:30 bis 21:30 Uhr – 30+ Jahre \n 
URL:https://neuruppin.net/event/euphoria-dance-space-kursangebot/2028-11-14/
LOCATION:Sportcenter Neuruppin\, Trenckmannstraße 1\, Neuruppin\, Brandenburg\, 16816\, Deutschland
CATEGORIES:Kinder,Tanz
ATTACH;FMTTYPE=image/png:https://neuruppin.net/wp-content/uploads/Logo-Euphoria-Dance-Space.png
ORGANIZER;CN="Euphoria%20Dance%20Space":MAILTO:info@euphoria-dance-space.de
END:VEVENT
BEGIN:VEVENT
DTSTART;TZID=Europe/Berlin:20281121T160000
DTEND;TZID=Europe/Berlin:20281121T213000
DTSTAMP:20260424T133350
CREATED:20260101T162410Z
LAST-MODIFIED:20260116T160603Z
UID:10014803-1858435200-1858455000@neuruppin.net
SUMMARY:Euphoria Dance Space - Kursangebot Neuruppin
DESCRIPTION:Euphoria Dance Space – Kursangebot (Hip Hop & Commercial)\n16:00 bis 17:00 Uhr – 6-9 Jahre \n17:00 bis 18:00 Uhr – 10-13 Jahre \n18:30 bis 19:30 Uhr – 14+ Jahre \n20:30 bis 21:30 Uhr – 30+ Jahre \n 
URL:https://neuruppin.net/event/euphoria-dance-space-kursangebot/2028-11-21/
LOCATION:Sportcenter Neuruppin\, Trenckmannstraße 1\, Neuruppin\, Brandenburg\, 16816\, Deutschland
CATEGORIES:Kinder,Tanz
ATTACH;FMTTYPE=image/png:https://neuruppin.net/wp-content/uploads/Logo-Euphoria-Dance-Space.png
ORGANIZER;CN="Euphoria%20Dance%20Space":MAILTO:info@euphoria-dance-space.de
END:VEVENT
BEGIN:VEVENT
DTSTART;TZID=Europe/Berlin:20281128T160000
DTEND;TZID=Europe/Berlin:20281128T213000
DTSTAMP:20260424T133350
CREATED:20260101T162410Z
LAST-MODIFIED:20260116T160603Z
UID:10014804-1859040000-1859059800@neuruppin.net
SUMMARY:Euphoria Dance Space - Kursangebot Neuruppin
DESCRIPTION:Euphoria Dance Space – Kursangebot (Hip Hop & Commercial)\n16:00 bis 17:00 Uhr – 6-9 Jahre \n17:00 bis 18:00 Uhr – 10-13 Jahre \n18:30 bis 19:30 Uhr – 14+ Jahre \n20:30 bis 21:30 Uhr – 30+ Jahre \n 
URL:https://neuruppin.net/event/euphoria-dance-space-kursangebot/2028-11-28/
LOCATION:Sportcenter Neuruppin\, Trenckmannstraße 1\, Neuruppin\, Brandenburg\, 16816\, Deutschland
CATEGORIES:Kinder,Tanz
ATTACH;FMTTYPE=image/png:https://neuruppin.net/wp-content/uploads/Logo-Euphoria-Dance-Space.png
ORGANIZER;CN="Euphoria%20Dance%20Space":MAILTO:info@euphoria-dance-space.de
END:VEVENT
BEGIN:VEVENT
DTSTART;TZID=Europe/Berlin:20281205T160000
DTEND;TZID=Europe/Berlin:20281205T213000
DTSTAMP:20260424T133350
CREATED:20260101T162410Z
LAST-MODIFIED:20260116T160603Z
UID:10014805-1859644800-1859664600@neuruppin.net
SUMMARY:Euphoria Dance Space - Kursangebot Neuruppin
DESCRIPTION:Euphoria Dance Space – Kursangebot (Hip Hop & Commercial)\n16:00 bis 17:00 Uhr – 6-9 Jahre \n17:00 bis 18:00 Uhr – 10-13 Jahre \n18:30 bis 19:30 Uhr – 14+ Jahre \n20:30 bis 21:30 Uhr – 30+ Jahre \n 
URL:https://neuruppin.net/event/euphoria-dance-space-kursangebot/2028-12-05/
LOCATION:Sportcenter Neuruppin\, Trenckmannstraße 1\, Neuruppin\, Brandenburg\, 16816\, Deutschland
CATEGORIES:Kinder,Tanz
ATTACH;FMTTYPE=image/png:https://neuruppin.net/wp-content/uploads/Logo-Euphoria-Dance-Space.png
ORGANIZER;CN="Euphoria%20Dance%20Space":MAILTO:info@euphoria-dance-space.de
END:VEVENT
BEGIN:VEVENT
DTSTART;TZID=Europe/Berlin:20281212T160000
DTEND;TZID=Europe/Berlin:20281212T213000
DTSTAMP:20260424T133350
CREATED:20260101T162410Z
LAST-MODIFIED:20260116T160603Z
UID:10014806-1860249600-1860269400@neuruppin.net
SUMMARY:Euphoria Dance Space - Kursangebot Neuruppin
DESCRIPTION:Euphoria Dance Space – Kursangebot (Hip Hop & Commercial)\n16:00 bis 17:00 Uhr – 6-9 Jahre \n17:00 bis 18:00 Uhr – 10-13 Jahre \n18:30 bis 19:30 Uhr – 14+ Jahre \n20:30 bis 21:30 Uhr – 30+ Jahre \n 
URL:https://neuruppin.net/event/euphoria-dance-space-kursangebot/2028-12-12/
LOCATION:Sportcenter Neuruppin\, Trenckmannstraße 1\, Neuruppin\, Brandenburg\, 16816\, Deutschland
CATEGORIES:Kinder,Tanz
ATTACH;FMTTYPE=image/png:https://neuruppin.net/wp-content/uploads/Logo-Euphoria-Dance-Space.png
ORGANIZER;CN="Euphoria%20Dance%20Space":MAILTO:info@euphoria-dance-space.de
END:VEVENT
BEGIN:VEVENT
DTSTART;TZID=Europe/Berlin:20281219T160000
DTEND;TZID=Europe/Berlin:20281219T213000
DTSTAMP:20260424T133350
CREATED:20260101T162410Z
LAST-MODIFIED:20260116T160603Z
UID:10014807-1860854400-1860874200@neuruppin.net
SUMMARY:Euphoria Dance Space - Kursangebot Neuruppin
DESCRIPTION:Euphoria Dance Space – Kursangebot (Hip Hop & Commercial)\n16:00 bis 17:00 Uhr – 6-9 Jahre \n17:00 bis 18:00 Uhr – 10-13 Jahre \n18:30 bis 19:30 Uhr – 14+ Jahre \n20:30 bis 21:30 Uhr – 30+ Jahre \n 
URL:https://neuruppin.net/event/euphoria-dance-space-kursangebot/2028-12-19/
LOCATION:Sportcenter Neuruppin\, Trenckmannstraße 1\, Neuruppin\, Brandenburg\, 16816\, Deutschland
CATEGORIES:Kinder,Tanz
ATTACH;FMTTYPE=image/png:https://neuruppin.net/wp-content/uploads/Logo-Euphoria-Dance-Space.png
ORGANIZER;CN="Euphoria%20Dance%20Space":MAILTO:info@euphoria-dance-space.de
END:VEVENT
BEGIN:VEVENT
DTSTART;TZID=Europe/Berlin:20281226T160000
DTEND;TZID=Europe/Berlin:20281226T213000
DTSTAMP:20260424T133350
CREATED:20260101T162410Z
LAST-MODIFIED:20260116T160603Z
UID:10014808-1861459200-1861479000@neuruppin.net
SUMMARY:Euphoria Dance Space - Kursangebot Neuruppin
DESCRIPTION:Euphoria Dance Space – Kursangebot (Hip Hop & Commercial)\n16:00 bis 17:00 Uhr – 6-9 Jahre \n17:00 bis 18:00 Uhr – 10-13 Jahre \n18:30 bis 19:30 Uhr – 14+ Jahre \n20:30 bis 21:30 Uhr – 30+ Jahre \n 
URL:https://neuruppin.net/event/euphoria-dance-space-kursangebot/2028-12-26/
LOCATION:Sportcenter Neuruppin\, Trenckmannstraße 1\, Neuruppin\, Brandenburg\, 16816\, Deutschland
CATEGORIES:Kinder,Tanz
ATTACH;FMTTYPE=image/png:https://neuruppin.net/wp-content/uploads/Logo-Euphoria-Dance-Space.png
ORGANIZER;CN="Euphoria%20Dance%20Space":MAILTO:info@euphoria-dance-space.de
END:VEVENT
BEGIN:VEVENT
DTSTART;TZID=Europe/Berlin:20290102T160000
DTEND;TZID=Europe/Berlin:20290102T213000
DTSTAMP:20260424T133350
CREATED:20260101T162410Z
LAST-MODIFIED:20260116T160603Z
UID:10014809-1862064000-1862083800@neuruppin.net
SUMMARY:Euphoria Dance Space - Kursangebot Neuruppin
DESCRIPTION:Euphoria Dance Space – Kursangebot (Hip Hop & Commercial)\n16:00 bis 17:00 Uhr – 6-9 Jahre \n17:00 bis 18:00 Uhr – 10-13 Jahre \n18:30 bis 19:30 Uhr – 14+ Jahre \n20:30 bis 21:30 Uhr – 30+ Jahre \n 
URL:https://neuruppin.net/event/euphoria-dance-space-kursangebot/2029-01-02/
LOCATION:Sportcenter Neuruppin\, Trenckmannstraße 1\, Neuruppin\, Brandenburg\, 16816\, Deutschland
CATEGORIES:Kinder,Tanz
ATTACH;FMTTYPE=image/png:https://neuruppin.net/wp-content/uploads/Logo-Euphoria-Dance-Space.png
ORGANIZER;CN="Euphoria%20Dance%20Space":MAILTO:info@euphoria-dance-space.de
END:VEVENT
BEGIN:VEVENT
DTSTART;TZID=Europe/Berlin:20290109T160000
DTEND;TZID=Europe/Berlin:20290109T213000
DTSTAMP:20260424T133350
CREATED:20260101T162410Z
LAST-MODIFIED:20260116T160603Z
UID:10014810-1862668800-1862688600@neuruppin.net
SUMMARY:Euphoria Dance Space - Kursangebot Neuruppin
DESCRIPTION:Euphoria Dance Space – Kursangebot (Hip Hop & Commercial)\n16:00 bis 17:00 Uhr – 6-9 Jahre \n17:00 bis 18:00 Uhr – 10-13 Jahre \n18:30 bis 19:30 Uhr – 14+ Jahre \n20:30 bis 21:30 Uhr – 30+ Jahre \n 
URL:https://neuruppin.net/event/euphoria-dance-space-kursangebot/2029-01-09/
LOCATION:Sportcenter Neuruppin\, Trenckmannstraße 1\, Neuruppin\, Brandenburg\, 16816\, Deutschland
CATEGORIES:Kinder,Tanz
ATTACH;FMTTYPE=image/png:https://neuruppin.net/wp-content/uploads/Logo-Euphoria-Dance-Space.png
ORGANIZER;CN="Euphoria%20Dance%20Space":MAILTO:info@euphoria-dance-space.de
END:VEVENT
BEGIN:VEVENT
DTSTART;TZID=Europe/Berlin:20290116T160000
DTEND;TZID=Europe/Berlin:20290116T213000
DTSTAMP:20260424T133350
CREATED:20260101T162410Z
LAST-MODIFIED:20260116T160603Z
UID:10014811-1863273600-1863293400@neuruppin.net
SUMMARY:Euphoria Dance Space - Kursangebot Neuruppin
DESCRIPTION:Euphoria Dance Space – Kursangebot (Hip Hop & Commercial)\n16:00 bis 17:00 Uhr – 6-9 Jahre \n17:00 bis 18:00 Uhr – 10-13 Jahre \n18:30 bis 19:30 Uhr – 14+ Jahre \n20:30 bis 21:30 Uhr – 30+ Jahre \n 
URL:https://neuruppin.net/event/euphoria-dance-space-kursangebot/2029-01-16/
LOCATION:Sportcenter Neuruppin\, Trenckmannstraße 1\, Neuruppin\, Brandenburg\, 16816\, Deutschland
CATEGORIES:Kinder,Tanz
ATTACH;FMTTYPE=image/png:https://neuruppin.net/wp-content/uploads/Logo-Euphoria-Dance-Space.png
ORGANIZER;CN="Euphoria%20Dance%20Space":MAILTO:info@euphoria-dance-space.de
END:VEVENT
BEGIN:VEVENT
DTSTART;TZID=Europe/Berlin:20290123T160000
DTEND;TZID=Europe/Berlin:20290123T213000
DTSTAMP:20260424T133350
CREATED:20260101T162410Z
LAST-MODIFIED:20260116T160603Z
UID:10014812-1863878400-1863898200@neuruppin.net
SUMMARY:Euphoria Dance Space - Kursangebot Neuruppin
DESCRIPTION:Euphoria Dance Space – Kursangebot (Hip Hop & Commercial)\n16:00 bis 17:00 Uhr – 6-9 Jahre \n17:00 bis 18:00 Uhr – 10-13 Jahre \n18:30 bis 19:30 Uhr – 14+ Jahre \n20:30 bis 21:30 Uhr – 30+ Jahre \n 
URL:https://neuruppin.net/event/euphoria-dance-space-kursangebot/2029-01-23/
LOCATION:Sportcenter Neuruppin\, Trenckmannstraße 1\, Neuruppin\, Brandenburg\, 16816\, Deutschland
CATEGORIES:Kinder,Tanz
ATTACH;FMTTYPE=image/png:https://neuruppin.net/wp-content/uploads/Logo-Euphoria-Dance-Space.png
ORGANIZER;CN="Euphoria%20Dance%20Space":MAILTO:info@euphoria-dance-space.de
END:VEVENT
BEGIN:VEVENT
DTSTART;TZID=Europe/Berlin:20290130T160000
DTEND;TZID=Europe/Berlin:20290130T213000
DTSTAMP:20260424T133350
CREATED:20260101T162410Z
LAST-MODIFIED:20260116T160603Z
UID:10014813-1864483200-1864503000@neuruppin.net
SUMMARY:Euphoria Dance Space - Kursangebot Neuruppin
DESCRIPTION:Euphoria Dance Space – Kursangebot (Hip Hop & Commercial)\n16:00 bis 17:00 Uhr – 6-9 Jahre \n17:00 bis 18:00 Uhr – 10-13 Jahre \n18:30 bis 19:30 Uhr – 14+ Jahre \n20:30 bis 21:30 Uhr – 30+ Jahre \n 
URL:https://neuruppin.net/event/euphoria-dance-space-kursangebot/2029-01-30/
LOCATION:Sportcenter Neuruppin\, Trenckmannstraße 1\, Neuruppin\, Brandenburg\, 16816\, Deutschland
CATEGORIES:Kinder,Tanz
ATTACH;FMTTYPE=image/png:https://neuruppin.net/wp-content/uploads/Logo-Euphoria-Dance-Space.png
ORGANIZER;CN="Euphoria%20Dance%20Space":MAILTO:info@euphoria-dance-space.de
END:VEVENT
BEGIN:VEVENT
DTSTART;TZID=Europe/Berlin:20290206T160000
DTEND;TZID=Europe/Berlin:20290206T213000
DTSTAMP:20260424T133350
CREATED:20260101T162410Z
LAST-MODIFIED:20260116T160603Z
UID:10014814-1865088000-1865107800@neuruppin.net
SUMMARY:Euphoria Dance Space - Kursangebot Neuruppin
DESCRIPTION:Euphoria Dance Space – Kursangebot (Hip Hop & Commercial)\n16:00 bis 17:00 Uhr – 6-9 Jahre \n17:00 bis 18:00 Uhr – 10-13 Jahre \n18:30 bis 19:30 Uhr – 14+ Jahre \n20:30 bis 21:30 Uhr – 30+ Jahre \n 
URL:https://neuruppin.net/event/euphoria-dance-space-kursangebot/2029-02-06/
LOCATION:Sportcenter Neuruppin\, Trenckmannstraße 1\, Neuruppin\, Brandenburg\, 16816\, Deutschland
CATEGORIES:Kinder,Tanz
ATTACH;FMTTYPE=image/png:https://neuruppin.net/wp-content/uploads/Logo-Euphoria-Dance-Space.png
ORGANIZER;CN="Euphoria%20Dance%20Space":MAILTO:info@euphoria-dance-space.de
END:VEVENT
BEGIN:VEVENT
DTSTART;TZID=Europe/Berlin:20290213T160000
DTEND;TZID=Europe/Berlin:20290213T213000
DTSTAMP:20260424T133350
CREATED:20260101T162410Z
LAST-MODIFIED:20260116T160603Z
UID:10014815-1865692800-1865712600@neuruppin.net
SUMMARY:Euphoria Dance Space - Kursangebot Neuruppin
DESCRIPTION:Euphoria Dance Space – Kursangebot (Hip Hop & Commercial)\n16:00 bis 17:00 Uhr – 6-9 Jahre \n17:00 bis 18:00 Uhr – 10-13 Jahre \n18:30 bis 19:30 Uhr – 14+ Jahre \n20:30 bis 21:30 Uhr – 30+ Jahre \n 
URL:https://neuruppin.net/event/euphoria-dance-space-kursangebot/2029-02-13/
LOCATION:Sportcenter Neuruppin\, Trenckmannstraße 1\, Neuruppin\, Brandenburg\, 16816\, Deutschland
CATEGORIES:Kinder,Tanz
ATTACH;FMTTYPE=image/png:https://neuruppin.net/wp-content/uploads/Logo-Euphoria-Dance-Space.png
ORGANIZER;CN="Euphoria%20Dance%20Space":MAILTO:info@euphoria-dance-space.de
END:VEVENT
BEGIN:VEVENT
DTSTART;TZID=Europe/Berlin:20290220T160000
DTEND;TZID=Europe/Berlin:20290220T213000
DTSTAMP:20260424T133350
CREATED:20260101T162410Z
LAST-MODIFIED:20260116T160603Z
UID:10014816-1866297600-1866317400@neuruppin.net
SUMMARY:Euphoria Dance Space - Kursangebot Neuruppin
DESCRIPTION:Euphoria Dance Space – Kursangebot (Hip Hop & Commercial)\n16:00 bis 17:00 Uhr – 6-9 Jahre \n17:00 bis 18:00 Uhr – 10-13 Jahre \n18:30 bis 19:30 Uhr – 14+ Jahre \n20:30 bis 21:30 Uhr – 30+ Jahre \n 
URL:https://neuruppin.net/event/euphoria-dance-space-kursangebot/2029-02-20/
LOCATION:Sportcenter Neuruppin\, Trenckmannstraße 1\, Neuruppin\, Brandenburg\, 16816\, Deutschland
CATEGORIES:Kinder,Tanz
ATTACH;FMTTYPE=image/png:https://neuruppin.net/wp-content/uploads/Logo-Euphoria-Dance-Space.png
ORGANIZER;CN="Euphoria%20Dance%20Space":MAILTO:info@euphoria-dance-space.de
END:VEVENT
BEGIN:VEVENT
DTSTART;TZID=Europe/Berlin:20290227T160000
DTEND;TZID=Europe/Berlin:20290227T213000
DTSTAMP:20260424T133350
CREATED:20260101T162410Z
LAST-MODIFIED:20260116T160603Z
UID:10014817-1866902400-1866922200@neuruppin.net
SUMMARY:Euphoria Dance Space - Kursangebot Neuruppin
DESCRIPTION:Euphoria Dance Space – Kursangebot (Hip Hop & Commercial)\n16:00 bis 17:00 Uhr – 6-9 Jahre \n17:00 bis 18:00 Uhr – 10-13 Jahre \n18:30 bis 19:30 Uhr – 14+ Jahre \n20:30 bis 21:30 Uhr – 30+ Jahre \n 
URL:https://neuruppin.net/event/euphoria-dance-space-kursangebot/2029-02-27/
LOCATION:Sportcenter Neuruppin\, Trenckmannstraße 1\, Neuruppin\, Brandenburg\, 16816\, Deutschland
CATEGORIES:Kinder,Tanz
ATTACH;FMTTYPE=image/png:https://neuruppin.net/wp-content/uploads/Logo-Euphoria-Dance-Space.png
ORGANIZER;CN="Euphoria%20Dance%20Space":MAILTO:info@euphoria-dance-space.de
END:VEVENT
BEGIN:VEVENT
DTSTART;TZID=Europe/Berlin:20290306T160000
DTEND;TZID=Europe/Berlin:20290306T213000
DTSTAMP:20260424T133350
CREATED:20260101T162410Z
LAST-MODIFIED:20260116T160603Z
UID:10014818-1867507200-1867527000@neuruppin.net
SUMMARY:Euphoria Dance Space - Kursangebot Neuruppin
DESCRIPTION:Euphoria Dance Space – Kursangebot (Hip Hop & Commercial)\n16:00 bis 17:00 Uhr – 6-9 Jahre \n17:00 bis 18:00 Uhr – 10-13 Jahre \n18:30 bis 19:30 Uhr – 14+ Jahre \n20:30 bis 21:30 Uhr – 30+ Jahre \n 
URL:https://neuruppin.net/event/euphoria-dance-space-kursangebot/2029-03-06/
LOCATION:Sportcenter Neuruppin\, Trenckmannstraße 1\, Neuruppin\, Brandenburg\, 16816\, Deutschland
CATEGORIES:Kinder,Tanz
ATTACH;FMTTYPE=image/png:https://neuruppin.net/wp-content/uploads/Logo-Euphoria-Dance-Space.png
ORGANIZER;CN="Euphoria%20Dance%20Space":MAILTO:info@euphoria-dance-space.de
END:VEVENT
BEGIN:VEVENT
DTSTART;TZID=Europe/Berlin:20290313T160000
DTEND;TZID=Europe/Berlin:20290313T213000
DTSTAMP:20260424T133350
CREATED:20260101T162410Z
LAST-MODIFIED:20260116T160603Z
UID:10014819-1868112000-1868131800@neuruppin.net
SUMMARY:Euphoria Dance Space - Kursangebot Neuruppin
DESCRIPTION:Euphoria Dance Space – Kursangebot (Hip Hop & Commercial)\n16:00 bis 17:00 Uhr – 6-9 Jahre \n17:00 bis 18:00 Uhr – 10-13 Jahre \n18:30 bis 19:30 Uhr – 14+ Jahre \n20:30 bis 21:30 Uhr – 30+ Jahre \n 
URL:https://neuruppin.net/event/euphoria-dance-space-kursangebot/2029-03-13/
LOCATION:Sportcenter Neuruppin\, Trenckmannstraße 1\, Neuruppin\, Brandenburg\, 16816\, Deutschland
CATEGORIES:Kinder,Tanz
ATTACH;FMTTYPE=image/png:https://neuruppin.net/wp-content/uploads/Logo-Euphoria-Dance-Space.png
ORGANIZER;CN="Euphoria%20Dance%20Space":MAILTO:info@euphoria-dance-space.de
END:VEVENT
BEGIN:VEVENT
DTSTART;TZID=Europe/Berlin:20290320T160000
DTEND;TZID=Europe/Berlin:20290320T213000
DTSTAMP:20260424T133350
CREATED:20260101T162410Z
LAST-MODIFIED:20260116T160603Z
UID:10014820-1868716800-1868736600@neuruppin.net
SUMMARY:Euphoria Dance Space - Kursangebot Neuruppin
DESCRIPTION:Euphoria Dance Space – Kursangebot (Hip Hop & Commercial)\n16:00 bis 17:00 Uhr – 6-9 Jahre \n17:00 bis 18:00 Uhr – 10-13 Jahre \n18:30 bis 19:30 Uhr – 14+ Jahre \n20:30 bis 21:30 Uhr – 30+ Jahre \n 
URL:https://neuruppin.net/event/euphoria-dance-space-kursangebot/2029-03-20/
LOCATION:Sportcenter Neuruppin\, Trenckmannstraße 1\, Neuruppin\, Brandenburg\, 16816\, Deutschland
CATEGORIES:Kinder,Tanz
ATTACH;FMTTYPE=image/png:https://neuruppin.net/wp-content/uploads/Logo-Euphoria-Dance-Space.png
ORGANIZER;CN="Euphoria%20Dance%20Space":MAILTO:info@euphoria-dance-space.de
END:VEVENT
BEGIN:VEVENT
DTSTART;TZID=Europe/Berlin:20290327T160000
DTEND;TZID=Europe/Berlin:20290327T213000
DTSTAMP:20260424T133350
CREATED:20260101T162410Z
LAST-MODIFIED:20260116T160603Z
UID:10014821-1869321600-1869341400@neuruppin.net
SUMMARY:Euphoria Dance Space - Kursangebot Neuruppin
DESCRIPTION:Euphoria Dance Space – Kursangebot (Hip Hop & Commercial)\n16:00 bis 17:00 Uhr – 6-9 Jahre \n17:00 bis 18:00 Uhr – 10-13 Jahre \n18:30 bis 19:30 Uhr – 14+ Jahre \n20:30 bis 21:30 Uhr – 30+ Jahre \n 
URL:https://neuruppin.net/event/euphoria-dance-space-kursangebot/2029-03-27/
LOCATION:Sportcenter Neuruppin\, Trenckmannstraße 1\, Neuruppin\, Brandenburg\, 16816\, Deutschland
CATEGORIES:Kinder,Tanz
ATTACH;FMTTYPE=image/png:https://neuruppin.net/wp-content/uploads/Logo-Euphoria-Dance-Space.png
ORGANIZER;CN="Euphoria%20Dance%20Space":MAILTO:info@euphoria-dance-space.de
END:VEVENT
END:VCALENDAR