BEGIN:VCALENDAR
VERSION:2.0
PRODID:-//neuruppin.net - ECPv6.0.13.1//NONSGML v1.0//EN
CALSCALE:GREGORIAN
METHOD:PUBLISH
X-WR-CALNAME:neuruppin.net
X-ORIGINAL-URL:https://neuruppin.net
X-WR-CALDESC:Veranstaltungen für neuruppin.net
REFRESH-INTERVAL;VALUE=DURATION:PT1H
X-Robots-Tag:noindex
X-PUBLISHED-TTL:PT1H
BEGIN:VTIMEZONE
TZID:Europe/Berlin
BEGIN:DAYLIGHT
TZOFFSETFROM:+0100
TZOFFSETTO:+0200
TZNAME:CEST
DTSTART:20280326T010000
END:DAYLIGHT
BEGIN:STANDARD
TZOFFSETFROM:+0200
TZOFFSETTO:+0100
TZNAME:CET
DTSTART:20281029T010000
END:STANDARD
END:VTIMEZONE
BEGIN:VEVENT
DTSTART;TZID=Europe/Berlin:20280411T160000
DTEND;TZID=Europe/Berlin:20280411T213000
DTSTAMP:20260424T022919
CREATED:20260101T162410Z
LAST-MODIFIED:20260116T160603Z
UID:10014771-1839081600-1839101400@neuruppin.net
SUMMARY:Euphoria Dance Space - Kursangebot Neuruppin
DESCRIPTION:Euphoria Dance Space – Kursangebot (Hip Hop & Commercial)\n16:00 bis 17:00 Uhr – 6-9 Jahre \n17:00 bis 18:00 Uhr – 10-13 Jahre \n18:30 bis 19:30 Uhr – 14+ Jahre \n20:30 bis 21:30 Uhr – 30+ Jahre \n 
URL:https://neuruppin.net/event/euphoria-dance-space-kursangebot/2028-04-11/
LOCATION:Sportcenter Neuruppin\, Trenckmannstraße 1\, Neuruppin\, Brandenburg\, 16816\, Deutschland
CATEGORIES:Kinder,Tanz
ATTACH;FMTTYPE=image/png:https://neuruppin.net/wp-content/uploads/Logo-Euphoria-Dance-Space.png
ORGANIZER;CN="Euphoria%20Dance%20Space":MAILTO:info@euphoria-dance-space.de
END:VEVENT
BEGIN:VEVENT
DTSTART;TZID=Europe/Berlin:20280418T160000
DTEND;TZID=Europe/Berlin:20280418T213000
DTSTAMP:20260424T022919
CREATED:20260101T162410Z
LAST-MODIFIED:20260116T160603Z
UID:10014772-1839686400-1839706200@neuruppin.net
SUMMARY:Euphoria Dance Space - Kursangebot Neuruppin
DESCRIPTION:Euphoria Dance Space – Kursangebot (Hip Hop & Commercial)\n16:00 bis 17:00 Uhr – 6-9 Jahre \n17:00 bis 18:00 Uhr – 10-13 Jahre \n18:30 bis 19:30 Uhr – 14+ Jahre \n20:30 bis 21:30 Uhr – 30+ Jahre \n 
URL:https://neuruppin.net/event/euphoria-dance-space-kursangebot/2028-04-18/
LOCATION:Sportcenter Neuruppin\, Trenckmannstraße 1\, Neuruppin\, Brandenburg\, 16816\, Deutschland
CATEGORIES:Kinder,Tanz
ATTACH;FMTTYPE=image/png:https://neuruppin.net/wp-content/uploads/Logo-Euphoria-Dance-Space.png
ORGANIZER;CN="Euphoria%20Dance%20Space":MAILTO:info@euphoria-dance-space.de
END:VEVENT
BEGIN:VEVENT
DTSTART;TZID=Europe/Berlin:20280425T160000
DTEND;TZID=Europe/Berlin:20280425T213000
DTSTAMP:20260424T022919
CREATED:20260101T162410Z
LAST-MODIFIED:20260116T160603Z
UID:10014773-1840291200-1840311000@neuruppin.net
SUMMARY:Euphoria Dance Space - Kursangebot Neuruppin
DESCRIPTION:Euphoria Dance Space – Kursangebot (Hip Hop & Commercial)\n16:00 bis 17:00 Uhr – 6-9 Jahre \n17:00 bis 18:00 Uhr – 10-13 Jahre \n18:30 bis 19:30 Uhr – 14+ Jahre \n20:30 bis 21:30 Uhr – 30+ Jahre \n 
URL:https://neuruppin.net/event/euphoria-dance-space-kursangebot/2028-04-25/
LOCATION:Sportcenter Neuruppin\, Trenckmannstraße 1\, Neuruppin\, Brandenburg\, 16816\, Deutschland
CATEGORIES:Kinder,Tanz
ATTACH;FMTTYPE=image/png:https://neuruppin.net/wp-content/uploads/Logo-Euphoria-Dance-Space.png
ORGANIZER;CN="Euphoria%20Dance%20Space":MAILTO:info@euphoria-dance-space.de
END:VEVENT
BEGIN:VEVENT
DTSTART;TZID=Europe/Berlin:20280502T160000
DTEND;TZID=Europe/Berlin:20280502T213000
DTSTAMP:20260424T022919
CREATED:20260101T162410Z
LAST-MODIFIED:20260116T160603Z
UID:10014774-1840896000-1840915800@neuruppin.net
SUMMARY:Euphoria Dance Space - Kursangebot Neuruppin
DESCRIPTION:Euphoria Dance Space – Kursangebot (Hip Hop & Commercial)\n16:00 bis 17:00 Uhr – 6-9 Jahre \n17:00 bis 18:00 Uhr – 10-13 Jahre \n18:30 bis 19:30 Uhr – 14+ Jahre \n20:30 bis 21:30 Uhr – 30+ Jahre \n 
URL:https://neuruppin.net/event/euphoria-dance-space-kursangebot/2028-05-02/
LOCATION:Sportcenter Neuruppin\, Trenckmannstraße 1\, Neuruppin\, Brandenburg\, 16816\, Deutschland
CATEGORIES:Kinder,Tanz
ATTACH;FMTTYPE=image/png:https://neuruppin.net/wp-content/uploads/Logo-Euphoria-Dance-Space.png
ORGANIZER;CN="Euphoria%20Dance%20Space":MAILTO:info@euphoria-dance-space.de
END:VEVENT
BEGIN:VEVENT
DTSTART;TZID=Europe/Berlin:20280509T160000
DTEND;TZID=Europe/Berlin:20280509T213000
DTSTAMP:20260424T022919
CREATED:20260101T162410Z
LAST-MODIFIED:20260116T160603Z
UID:10014775-1841500800-1841520600@neuruppin.net
SUMMARY:Euphoria Dance Space - Kursangebot Neuruppin
DESCRIPTION:Euphoria Dance Space – Kursangebot (Hip Hop & Commercial)\n16:00 bis 17:00 Uhr – 6-9 Jahre \n17:00 bis 18:00 Uhr – 10-13 Jahre \n18:30 bis 19:30 Uhr – 14+ Jahre \n20:30 bis 21:30 Uhr – 30+ Jahre \n 
URL:https://neuruppin.net/event/euphoria-dance-space-kursangebot/2028-05-09/
LOCATION:Sportcenter Neuruppin\, Trenckmannstraße 1\, Neuruppin\, Brandenburg\, 16816\, Deutschland
CATEGORIES:Kinder,Tanz
ATTACH;FMTTYPE=image/png:https://neuruppin.net/wp-content/uploads/Logo-Euphoria-Dance-Space.png
ORGANIZER;CN="Euphoria%20Dance%20Space":MAILTO:info@euphoria-dance-space.de
END:VEVENT
BEGIN:VEVENT
DTSTART;TZID=Europe/Berlin:20280516T160000
DTEND;TZID=Europe/Berlin:20280516T213000
DTSTAMP:20260424T022919
CREATED:20260101T162410Z
LAST-MODIFIED:20260116T160603Z
UID:10014776-1842105600-1842125400@neuruppin.net
SUMMARY:Euphoria Dance Space - Kursangebot Neuruppin
DESCRIPTION:Euphoria Dance Space – Kursangebot (Hip Hop & Commercial)\n16:00 bis 17:00 Uhr – 6-9 Jahre \n17:00 bis 18:00 Uhr – 10-13 Jahre \n18:30 bis 19:30 Uhr – 14+ Jahre \n20:30 bis 21:30 Uhr – 30+ Jahre \n 
URL:https://neuruppin.net/event/euphoria-dance-space-kursangebot/2028-05-16/
LOCATION:Sportcenter Neuruppin\, Trenckmannstraße 1\, Neuruppin\, Brandenburg\, 16816\, Deutschland
CATEGORIES:Kinder,Tanz
ATTACH;FMTTYPE=image/png:https://neuruppin.net/wp-content/uploads/Logo-Euphoria-Dance-Space.png
ORGANIZER;CN="Euphoria%20Dance%20Space":MAILTO:info@euphoria-dance-space.de
END:VEVENT
BEGIN:VEVENT
DTSTART;TZID=Europe/Berlin:20280523T160000
DTEND;TZID=Europe/Berlin:20280523T213000
DTSTAMP:20260424T022919
CREATED:20260101T162410Z
LAST-MODIFIED:20260116T160603Z
UID:10014777-1842710400-1842730200@neuruppin.net
SUMMARY:Euphoria Dance Space - Kursangebot Neuruppin
DESCRIPTION:Euphoria Dance Space – Kursangebot (Hip Hop & Commercial)\n16:00 bis 17:00 Uhr – 6-9 Jahre \n17:00 bis 18:00 Uhr – 10-13 Jahre \n18:30 bis 19:30 Uhr – 14+ Jahre \n20:30 bis 21:30 Uhr – 30+ Jahre \n 
URL:https://neuruppin.net/event/euphoria-dance-space-kursangebot/2028-05-23/
LOCATION:Sportcenter Neuruppin\, Trenckmannstraße 1\, Neuruppin\, Brandenburg\, 16816\, Deutschland
CATEGORIES:Kinder,Tanz
ATTACH;FMTTYPE=image/png:https://neuruppin.net/wp-content/uploads/Logo-Euphoria-Dance-Space.png
ORGANIZER;CN="Euphoria%20Dance%20Space":MAILTO:info@euphoria-dance-space.de
END:VEVENT
BEGIN:VEVENT
DTSTART;TZID=Europe/Berlin:20280530T160000
DTEND;TZID=Europe/Berlin:20280530T213000
DTSTAMP:20260424T022919
CREATED:20260101T162410Z
LAST-MODIFIED:20260116T160603Z
UID:10014778-1843315200-1843335000@neuruppin.net
SUMMARY:Euphoria Dance Space - Kursangebot Neuruppin
DESCRIPTION:Euphoria Dance Space – Kursangebot (Hip Hop & Commercial)\n16:00 bis 17:00 Uhr – 6-9 Jahre \n17:00 bis 18:00 Uhr – 10-13 Jahre \n18:30 bis 19:30 Uhr – 14+ Jahre \n20:30 bis 21:30 Uhr – 30+ Jahre \n 
URL:https://neuruppin.net/event/euphoria-dance-space-kursangebot/2028-05-30/
LOCATION:Sportcenter Neuruppin\, Trenckmannstraße 1\, Neuruppin\, Brandenburg\, 16816\, Deutschland
CATEGORIES:Kinder,Tanz
ATTACH;FMTTYPE=image/png:https://neuruppin.net/wp-content/uploads/Logo-Euphoria-Dance-Space.png
ORGANIZER;CN="Euphoria%20Dance%20Space":MAILTO:info@euphoria-dance-space.de
END:VEVENT
BEGIN:VEVENT
DTSTART;TZID=Europe/Berlin:20280606T160000
DTEND;TZID=Europe/Berlin:20280606T213000
DTSTAMP:20260424T022919
CREATED:20260101T162410Z
LAST-MODIFIED:20260116T160603Z
UID:10014779-1843920000-1843939800@neuruppin.net
SUMMARY:Euphoria Dance Space - Kursangebot Neuruppin
DESCRIPTION:Euphoria Dance Space – Kursangebot (Hip Hop & Commercial)\n16:00 bis 17:00 Uhr – 6-9 Jahre \n17:00 bis 18:00 Uhr – 10-13 Jahre \n18:30 bis 19:30 Uhr – 14+ Jahre \n20:30 bis 21:30 Uhr – 30+ Jahre \n 
URL:https://neuruppin.net/event/euphoria-dance-space-kursangebot/2028-06-06/
LOCATION:Sportcenter Neuruppin\, Trenckmannstraße 1\, Neuruppin\, Brandenburg\, 16816\, Deutschland
CATEGORIES:Kinder,Tanz
ATTACH;FMTTYPE=image/png:https://neuruppin.net/wp-content/uploads/Logo-Euphoria-Dance-Space.png
ORGANIZER;CN="Euphoria%20Dance%20Space":MAILTO:info@euphoria-dance-space.de
END:VEVENT
BEGIN:VEVENT
DTSTART;TZID=Europe/Berlin:20280613T160000
DTEND;TZID=Europe/Berlin:20280613T213000
DTSTAMP:20260424T022919
CREATED:20260101T162410Z
LAST-MODIFIED:20260116T160603Z
UID:10014780-1844524800-1844544600@neuruppin.net
SUMMARY:Euphoria Dance Space - Kursangebot Neuruppin
DESCRIPTION:Euphoria Dance Space – Kursangebot (Hip Hop & Commercial)\n16:00 bis 17:00 Uhr – 6-9 Jahre \n17:00 bis 18:00 Uhr – 10-13 Jahre \n18:30 bis 19:30 Uhr – 14+ Jahre \n20:30 bis 21:30 Uhr – 30+ Jahre \n 
URL:https://neuruppin.net/event/euphoria-dance-space-kursangebot/2028-06-13/
LOCATION:Sportcenter Neuruppin\, Trenckmannstraße 1\, Neuruppin\, Brandenburg\, 16816\, Deutschland
CATEGORIES:Kinder,Tanz
ATTACH;FMTTYPE=image/png:https://neuruppin.net/wp-content/uploads/Logo-Euphoria-Dance-Space.png
ORGANIZER;CN="Euphoria%20Dance%20Space":MAILTO:info@euphoria-dance-space.de
END:VEVENT
BEGIN:VEVENT
DTSTART;TZID=Europe/Berlin:20280620T160000
DTEND;TZID=Europe/Berlin:20280620T213000
DTSTAMP:20260424T022919
CREATED:20260101T162410Z
LAST-MODIFIED:20260116T160603Z
UID:10014781-1845129600-1845149400@neuruppin.net
SUMMARY:Euphoria Dance Space - Kursangebot Neuruppin
DESCRIPTION:Euphoria Dance Space – Kursangebot (Hip Hop & Commercial)\n16:00 bis 17:00 Uhr – 6-9 Jahre \n17:00 bis 18:00 Uhr – 10-13 Jahre \n18:30 bis 19:30 Uhr – 14+ Jahre \n20:30 bis 21:30 Uhr – 30+ Jahre \n 
URL:https://neuruppin.net/event/euphoria-dance-space-kursangebot/2028-06-20/
LOCATION:Sportcenter Neuruppin\, Trenckmannstraße 1\, Neuruppin\, Brandenburg\, 16816\, Deutschland
CATEGORIES:Kinder,Tanz
ATTACH;FMTTYPE=image/png:https://neuruppin.net/wp-content/uploads/Logo-Euphoria-Dance-Space.png
ORGANIZER;CN="Euphoria%20Dance%20Space":MAILTO:info@euphoria-dance-space.de
END:VEVENT
BEGIN:VEVENT
DTSTART;TZID=Europe/Berlin:20280627T160000
DTEND;TZID=Europe/Berlin:20280627T213000
DTSTAMP:20260424T022919
CREATED:20260101T162410Z
LAST-MODIFIED:20260116T160603Z
UID:10014782-1845734400-1845754200@neuruppin.net
SUMMARY:Euphoria Dance Space - Kursangebot Neuruppin
DESCRIPTION:Euphoria Dance Space – Kursangebot (Hip Hop & Commercial)\n16:00 bis 17:00 Uhr – 6-9 Jahre \n17:00 bis 18:00 Uhr – 10-13 Jahre \n18:30 bis 19:30 Uhr – 14+ Jahre \n20:30 bis 21:30 Uhr – 30+ Jahre \n 
URL:https://neuruppin.net/event/euphoria-dance-space-kursangebot/2028-06-27/
LOCATION:Sportcenter Neuruppin\, Trenckmannstraße 1\, Neuruppin\, Brandenburg\, 16816\, Deutschland
CATEGORIES:Kinder,Tanz
ATTACH;FMTTYPE=image/png:https://neuruppin.net/wp-content/uploads/Logo-Euphoria-Dance-Space.png
ORGANIZER;CN="Euphoria%20Dance%20Space":MAILTO:info@euphoria-dance-space.de
END:VEVENT
BEGIN:VEVENT
DTSTART;TZID=Europe/Berlin:20280704T160000
DTEND;TZID=Europe/Berlin:20280704T213000
DTSTAMP:20260424T022919
CREATED:20260101T162410Z
LAST-MODIFIED:20260116T160603Z
UID:10014783-1846339200-1846359000@neuruppin.net
SUMMARY:Euphoria Dance Space - Kursangebot Neuruppin
DESCRIPTION:Euphoria Dance Space – Kursangebot (Hip Hop & Commercial)\n16:00 bis 17:00 Uhr – 6-9 Jahre \n17:00 bis 18:00 Uhr – 10-13 Jahre \n18:30 bis 19:30 Uhr – 14+ Jahre \n20:30 bis 21:30 Uhr – 30+ Jahre \n 
URL:https://neuruppin.net/event/euphoria-dance-space-kursangebot/2028-07-04/
LOCATION:Sportcenter Neuruppin\, Trenckmannstraße 1\, Neuruppin\, Brandenburg\, 16816\, Deutschland
CATEGORIES:Kinder,Tanz
ATTACH;FMTTYPE=image/png:https://neuruppin.net/wp-content/uploads/Logo-Euphoria-Dance-Space.png
ORGANIZER;CN="Euphoria%20Dance%20Space":MAILTO:info@euphoria-dance-space.de
END:VEVENT
BEGIN:VEVENT
DTSTART;TZID=Europe/Berlin:20280711T160000
DTEND;TZID=Europe/Berlin:20280711T213000
DTSTAMP:20260424T022919
CREATED:20260101T162410Z
LAST-MODIFIED:20260116T160603Z
UID:10014784-1846944000-1846963800@neuruppin.net
SUMMARY:Euphoria Dance Space - Kursangebot Neuruppin
DESCRIPTION:Euphoria Dance Space – Kursangebot (Hip Hop & Commercial)\n16:00 bis 17:00 Uhr – 6-9 Jahre \n17:00 bis 18:00 Uhr – 10-13 Jahre \n18:30 bis 19:30 Uhr – 14+ Jahre \n20:30 bis 21:30 Uhr – 30+ Jahre \n 
URL:https://neuruppin.net/event/euphoria-dance-space-kursangebot/2028-07-11/
LOCATION:Sportcenter Neuruppin\, Trenckmannstraße 1\, Neuruppin\, Brandenburg\, 16816\, Deutschland
CATEGORIES:Kinder,Tanz
ATTACH;FMTTYPE=image/png:https://neuruppin.net/wp-content/uploads/Logo-Euphoria-Dance-Space.png
ORGANIZER;CN="Euphoria%20Dance%20Space":MAILTO:info@euphoria-dance-space.de
END:VEVENT
BEGIN:VEVENT
DTSTART;TZID=Europe/Berlin:20280718T160000
DTEND;TZID=Europe/Berlin:20280718T213000
DTSTAMP:20260424T022919
CREATED:20260101T162410Z
LAST-MODIFIED:20260116T160603Z
UID:10014785-1847548800-1847568600@neuruppin.net
SUMMARY:Euphoria Dance Space - Kursangebot Neuruppin
DESCRIPTION:Euphoria Dance Space – Kursangebot (Hip Hop & Commercial)\n16:00 bis 17:00 Uhr – 6-9 Jahre \n17:00 bis 18:00 Uhr – 10-13 Jahre \n18:30 bis 19:30 Uhr – 14+ Jahre \n20:30 bis 21:30 Uhr – 30+ Jahre \n 
URL:https://neuruppin.net/event/euphoria-dance-space-kursangebot/2028-07-18/
LOCATION:Sportcenter Neuruppin\, Trenckmannstraße 1\, Neuruppin\, Brandenburg\, 16816\, Deutschland
CATEGORIES:Kinder,Tanz
ATTACH;FMTTYPE=image/png:https://neuruppin.net/wp-content/uploads/Logo-Euphoria-Dance-Space.png
ORGANIZER;CN="Euphoria%20Dance%20Space":MAILTO:info@euphoria-dance-space.de
END:VEVENT
BEGIN:VEVENT
DTSTART;TZID=Europe/Berlin:20280725T160000
DTEND;TZID=Europe/Berlin:20280725T213000
DTSTAMP:20260424T022919
CREATED:20260101T162410Z
LAST-MODIFIED:20260116T160603Z
UID:10014786-1848153600-1848173400@neuruppin.net
SUMMARY:Euphoria Dance Space - Kursangebot Neuruppin
DESCRIPTION:Euphoria Dance Space – Kursangebot (Hip Hop & Commercial)\n16:00 bis 17:00 Uhr – 6-9 Jahre \n17:00 bis 18:00 Uhr – 10-13 Jahre \n18:30 bis 19:30 Uhr – 14+ Jahre \n20:30 bis 21:30 Uhr – 30+ Jahre \n 
URL:https://neuruppin.net/event/euphoria-dance-space-kursangebot/2028-07-25/
LOCATION:Sportcenter Neuruppin\, Trenckmannstraße 1\, Neuruppin\, Brandenburg\, 16816\, Deutschland
CATEGORIES:Kinder,Tanz
ATTACH;FMTTYPE=image/png:https://neuruppin.net/wp-content/uploads/Logo-Euphoria-Dance-Space.png
ORGANIZER;CN="Euphoria%20Dance%20Space":MAILTO:info@euphoria-dance-space.de
END:VEVENT
BEGIN:VEVENT
DTSTART;TZID=Europe/Berlin:20280801T160000
DTEND;TZID=Europe/Berlin:20280801T213000
DTSTAMP:20260424T022919
CREATED:20260101T162410Z
LAST-MODIFIED:20260116T160603Z
UID:10014787-1848758400-1848778200@neuruppin.net
SUMMARY:Euphoria Dance Space - Kursangebot Neuruppin
DESCRIPTION:Euphoria Dance Space – Kursangebot (Hip Hop & Commercial)\n16:00 bis 17:00 Uhr – 6-9 Jahre \n17:00 bis 18:00 Uhr – 10-13 Jahre \n18:30 bis 19:30 Uhr – 14+ Jahre \n20:30 bis 21:30 Uhr – 30+ Jahre \n 
URL:https://neuruppin.net/event/euphoria-dance-space-kursangebot/2028-08-01/
LOCATION:Sportcenter Neuruppin\, Trenckmannstraße 1\, Neuruppin\, Brandenburg\, 16816\, Deutschland
CATEGORIES:Kinder,Tanz
ATTACH;FMTTYPE=image/png:https://neuruppin.net/wp-content/uploads/Logo-Euphoria-Dance-Space.png
ORGANIZER;CN="Euphoria%20Dance%20Space":MAILTO:info@euphoria-dance-space.de
END:VEVENT
BEGIN:VEVENT
DTSTART;TZID=Europe/Berlin:20280808T160000
DTEND;TZID=Europe/Berlin:20280808T213000
DTSTAMP:20260424T022919
CREATED:20260101T162410Z
LAST-MODIFIED:20260116T160603Z
UID:10014788-1849363200-1849383000@neuruppin.net
SUMMARY:Euphoria Dance Space - Kursangebot Neuruppin
DESCRIPTION:Euphoria Dance Space – Kursangebot (Hip Hop & Commercial)\n16:00 bis 17:00 Uhr – 6-9 Jahre \n17:00 bis 18:00 Uhr – 10-13 Jahre \n18:30 bis 19:30 Uhr – 14+ Jahre \n20:30 bis 21:30 Uhr – 30+ Jahre \n 
URL:https://neuruppin.net/event/euphoria-dance-space-kursangebot/2028-08-08/
LOCATION:Sportcenter Neuruppin\, Trenckmannstraße 1\, Neuruppin\, Brandenburg\, 16816\, Deutschland
CATEGORIES:Kinder,Tanz
ATTACH;FMTTYPE=image/png:https://neuruppin.net/wp-content/uploads/Logo-Euphoria-Dance-Space.png
ORGANIZER;CN="Euphoria%20Dance%20Space":MAILTO:info@euphoria-dance-space.de
END:VEVENT
BEGIN:VEVENT
DTSTART;TZID=Europe/Berlin:20280815T160000
DTEND;TZID=Europe/Berlin:20280815T213000
DTSTAMP:20260424T022919
CREATED:20260101T162410Z
LAST-MODIFIED:20260116T160603Z
UID:10014789-1849968000-1849987800@neuruppin.net
SUMMARY:Euphoria Dance Space - Kursangebot Neuruppin
DESCRIPTION:Euphoria Dance Space – Kursangebot (Hip Hop & Commercial)\n16:00 bis 17:00 Uhr – 6-9 Jahre \n17:00 bis 18:00 Uhr – 10-13 Jahre \n18:30 bis 19:30 Uhr – 14+ Jahre \n20:30 bis 21:30 Uhr – 30+ Jahre \n 
URL:https://neuruppin.net/event/euphoria-dance-space-kursangebot/2028-08-15/
LOCATION:Sportcenter Neuruppin\, Trenckmannstraße 1\, Neuruppin\, Brandenburg\, 16816\, Deutschland
CATEGORIES:Kinder,Tanz
ATTACH;FMTTYPE=image/png:https://neuruppin.net/wp-content/uploads/Logo-Euphoria-Dance-Space.png
ORGANIZER;CN="Euphoria%20Dance%20Space":MAILTO:info@euphoria-dance-space.de
END:VEVENT
BEGIN:VEVENT
DTSTART;TZID=Europe/Berlin:20280822T160000
DTEND;TZID=Europe/Berlin:20280822T213000
DTSTAMP:20260424T022919
CREATED:20260101T162410Z
LAST-MODIFIED:20260116T160603Z
UID:10014790-1850572800-1850592600@neuruppin.net
SUMMARY:Euphoria Dance Space - Kursangebot Neuruppin
DESCRIPTION:Euphoria Dance Space – Kursangebot (Hip Hop & Commercial)\n16:00 bis 17:00 Uhr – 6-9 Jahre \n17:00 bis 18:00 Uhr – 10-13 Jahre \n18:30 bis 19:30 Uhr – 14+ Jahre \n20:30 bis 21:30 Uhr – 30+ Jahre \n 
URL:https://neuruppin.net/event/euphoria-dance-space-kursangebot/2028-08-22/
LOCATION:Sportcenter Neuruppin\, Trenckmannstraße 1\, Neuruppin\, Brandenburg\, 16816\, Deutschland
CATEGORIES:Kinder,Tanz
ATTACH;FMTTYPE=image/png:https://neuruppin.net/wp-content/uploads/Logo-Euphoria-Dance-Space.png
ORGANIZER;CN="Euphoria%20Dance%20Space":MAILTO:info@euphoria-dance-space.de
END:VEVENT
BEGIN:VEVENT
DTSTART;TZID=Europe/Berlin:20280829T160000
DTEND;TZID=Europe/Berlin:20280829T213000
DTSTAMP:20260424T022919
CREATED:20260101T162410Z
LAST-MODIFIED:20260116T160603Z
UID:10014791-1851177600-1851197400@neuruppin.net
SUMMARY:Euphoria Dance Space - Kursangebot Neuruppin
DESCRIPTION:Euphoria Dance Space – Kursangebot (Hip Hop & Commercial)\n16:00 bis 17:00 Uhr – 6-9 Jahre \n17:00 bis 18:00 Uhr – 10-13 Jahre \n18:30 bis 19:30 Uhr – 14+ Jahre \n20:30 bis 21:30 Uhr – 30+ Jahre \n 
URL:https://neuruppin.net/event/euphoria-dance-space-kursangebot/2028-08-29/
LOCATION:Sportcenter Neuruppin\, Trenckmannstraße 1\, Neuruppin\, Brandenburg\, 16816\, Deutschland
CATEGORIES:Kinder,Tanz
ATTACH;FMTTYPE=image/png:https://neuruppin.net/wp-content/uploads/Logo-Euphoria-Dance-Space.png
ORGANIZER;CN="Euphoria%20Dance%20Space":MAILTO:info@euphoria-dance-space.de
END:VEVENT
BEGIN:VEVENT
DTSTART;TZID=Europe/Berlin:20280905T160000
DTEND;TZID=Europe/Berlin:20280905T213000
DTSTAMP:20260424T022919
CREATED:20260101T162410Z
LAST-MODIFIED:20260116T160603Z
UID:10014792-1851782400-1851802200@neuruppin.net
SUMMARY:Euphoria Dance Space - Kursangebot Neuruppin
DESCRIPTION:Euphoria Dance Space – Kursangebot (Hip Hop & Commercial)\n16:00 bis 17:00 Uhr – 6-9 Jahre \n17:00 bis 18:00 Uhr – 10-13 Jahre \n18:30 bis 19:30 Uhr – 14+ Jahre \n20:30 bis 21:30 Uhr – 30+ Jahre \n 
URL:https://neuruppin.net/event/euphoria-dance-space-kursangebot/2028-09-05/
LOCATION:Sportcenter Neuruppin\, Trenckmannstraße 1\, Neuruppin\, Brandenburg\, 16816\, Deutschland
CATEGORIES:Kinder,Tanz
ATTACH;FMTTYPE=image/png:https://neuruppin.net/wp-content/uploads/Logo-Euphoria-Dance-Space.png
ORGANIZER;CN="Euphoria%20Dance%20Space":MAILTO:info@euphoria-dance-space.de
END:VEVENT
BEGIN:VEVENT
DTSTART;TZID=Europe/Berlin:20280912T160000
DTEND;TZID=Europe/Berlin:20280912T213000
DTSTAMP:20260424T022919
CREATED:20260101T162410Z
LAST-MODIFIED:20260116T160603Z
UID:10014793-1852387200-1852407000@neuruppin.net
SUMMARY:Euphoria Dance Space - Kursangebot Neuruppin
DESCRIPTION:Euphoria Dance Space – Kursangebot (Hip Hop & Commercial)\n16:00 bis 17:00 Uhr – 6-9 Jahre \n17:00 bis 18:00 Uhr – 10-13 Jahre \n18:30 bis 19:30 Uhr – 14+ Jahre \n20:30 bis 21:30 Uhr – 30+ Jahre \n 
URL:https://neuruppin.net/event/euphoria-dance-space-kursangebot/2028-09-12/
LOCATION:Sportcenter Neuruppin\, Trenckmannstraße 1\, Neuruppin\, Brandenburg\, 16816\, Deutschland
CATEGORIES:Kinder,Tanz
ATTACH;FMTTYPE=image/png:https://neuruppin.net/wp-content/uploads/Logo-Euphoria-Dance-Space.png
ORGANIZER;CN="Euphoria%20Dance%20Space":MAILTO:info@euphoria-dance-space.de
END:VEVENT
BEGIN:VEVENT
DTSTART;TZID=Europe/Berlin:20280919T160000
DTEND;TZID=Europe/Berlin:20280919T213000
DTSTAMP:20260424T022919
CREATED:20260101T162410Z
LAST-MODIFIED:20260116T160603Z
UID:10014794-1852992000-1853011800@neuruppin.net
SUMMARY:Euphoria Dance Space - Kursangebot Neuruppin
DESCRIPTION:Euphoria Dance Space – Kursangebot (Hip Hop & Commercial)\n16:00 bis 17:00 Uhr – 6-9 Jahre \n17:00 bis 18:00 Uhr – 10-13 Jahre \n18:30 bis 19:30 Uhr – 14+ Jahre \n20:30 bis 21:30 Uhr – 30+ Jahre \n 
URL:https://neuruppin.net/event/euphoria-dance-space-kursangebot/2028-09-19/
LOCATION:Sportcenter Neuruppin\, Trenckmannstraße 1\, Neuruppin\, Brandenburg\, 16816\, Deutschland
CATEGORIES:Kinder,Tanz
ATTACH;FMTTYPE=image/png:https://neuruppin.net/wp-content/uploads/Logo-Euphoria-Dance-Space.png
ORGANIZER;CN="Euphoria%20Dance%20Space":MAILTO:info@euphoria-dance-space.de
END:VEVENT
BEGIN:VEVENT
DTSTART;TZID=Europe/Berlin:20280926T160000
DTEND;TZID=Europe/Berlin:20280926T213000
DTSTAMP:20260424T022919
CREATED:20260101T162410Z
LAST-MODIFIED:20260116T160603Z
UID:10014795-1853596800-1853616600@neuruppin.net
SUMMARY:Euphoria Dance Space - Kursangebot Neuruppin
DESCRIPTION:Euphoria Dance Space – Kursangebot (Hip Hop & Commercial)\n16:00 bis 17:00 Uhr – 6-9 Jahre \n17:00 bis 18:00 Uhr – 10-13 Jahre \n18:30 bis 19:30 Uhr – 14+ Jahre \n20:30 bis 21:30 Uhr – 30+ Jahre \n 
URL:https://neuruppin.net/event/euphoria-dance-space-kursangebot/2028-09-26/
LOCATION:Sportcenter Neuruppin\, Trenckmannstraße 1\, Neuruppin\, Brandenburg\, 16816\, Deutschland
CATEGORIES:Kinder,Tanz
ATTACH;FMTTYPE=image/png:https://neuruppin.net/wp-content/uploads/Logo-Euphoria-Dance-Space.png
ORGANIZER;CN="Euphoria%20Dance%20Space":MAILTO:info@euphoria-dance-space.de
END:VEVENT
BEGIN:VEVENT
DTSTART;TZID=Europe/Berlin:20281003T160000
DTEND;TZID=Europe/Berlin:20281003T213000
DTSTAMP:20260424T022919
CREATED:20260101T162410Z
LAST-MODIFIED:20260116T160603Z
UID:10014796-1854201600-1854221400@neuruppin.net
SUMMARY:Euphoria Dance Space - Kursangebot Neuruppin
DESCRIPTION:Euphoria Dance Space – Kursangebot (Hip Hop & Commercial)\n16:00 bis 17:00 Uhr – 6-9 Jahre \n17:00 bis 18:00 Uhr – 10-13 Jahre \n18:30 bis 19:30 Uhr – 14+ Jahre \n20:30 bis 21:30 Uhr – 30+ Jahre \n 
URL:https://neuruppin.net/event/euphoria-dance-space-kursangebot/2028-10-03/
LOCATION:Sportcenter Neuruppin\, Trenckmannstraße 1\, Neuruppin\, Brandenburg\, 16816\, Deutschland
CATEGORIES:Kinder,Tanz
ATTACH;FMTTYPE=image/png:https://neuruppin.net/wp-content/uploads/Logo-Euphoria-Dance-Space.png
ORGANIZER;CN="Euphoria%20Dance%20Space":MAILTO:info@euphoria-dance-space.de
END:VEVENT
BEGIN:VEVENT
DTSTART;TZID=Europe/Berlin:20281010T160000
DTEND;TZID=Europe/Berlin:20281010T213000
DTSTAMP:20260424T022919
CREATED:20260101T162410Z
LAST-MODIFIED:20260116T160603Z
UID:10014797-1854806400-1854826200@neuruppin.net
SUMMARY:Euphoria Dance Space - Kursangebot Neuruppin
DESCRIPTION:Euphoria Dance Space – Kursangebot (Hip Hop & Commercial)\n16:00 bis 17:00 Uhr – 6-9 Jahre \n17:00 bis 18:00 Uhr – 10-13 Jahre \n18:30 bis 19:30 Uhr – 14+ Jahre \n20:30 bis 21:30 Uhr – 30+ Jahre \n 
URL:https://neuruppin.net/event/euphoria-dance-space-kursangebot/2028-10-10/
LOCATION:Sportcenter Neuruppin\, Trenckmannstraße 1\, Neuruppin\, Brandenburg\, 16816\, Deutschland
CATEGORIES:Kinder,Tanz
ATTACH;FMTTYPE=image/png:https://neuruppin.net/wp-content/uploads/Logo-Euphoria-Dance-Space.png
ORGANIZER;CN="Euphoria%20Dance%20Space":MAILTO:info@euphoria-dance-space.de
END:VEVENT
BEGIN:VEVENT
DTSTART;TZID=Europe/Berlin:20281017T160000
DTEND;TZID=Europe/Berlin:20281017T213000
DTSTAMP:20260424T022919
CREATED:20260101T162410Z
LAST-MODIFIED:20260116T160603Z
UID:10014798-1855411200-1855431000@neuruppin.net
SUMMARY:Euphoria Dance Space - Kursangebot Neuruppin
DESCRIPTION:Euphoria Dance Space – Kursangebot (Hip Hop & Commercial)\n16:00 bis 17:00 Uhr – 6-9 Jahre \n17:00 bis 18:00 Uhr – 10-13 Jahre \n18:30 bis 19:30 Uhr – 14+ Jahre \n20:30 bis 21:30 Uhr – 30+ Jahre \n 
URL:https://neuruppin.net/event/euphoria-dance-space-kursangebot/2028-10-17/
LOCATION:Sportcenter Neuruppin\, Trenckmannstraße 1\, Neuruppin\, Brandenburg\, 16816\, Deutschland
CATEGORIES:Kinder,Tanz
ATTACH;FMTTYPE=image/png:https://neuruppin.net/wp-content/uploads/Logo-Euphoria-Dance-Space.png
ORGANIZER;CN="Euphoria%20Dance%20Space":MAILTO:info@euphoria-dance-space.de
END:VEVENT
BEGIN:VEVENT
DTSTART;TZID=Europe/Berlin:20281024T160000
DTEND;TZID=Europe/Berlin:20281024T213000
DTSTAMP:20260424T022920
CREATED:20260101T162410Z
LAST-MODIFIED:20260116T160603Z
UID:10014799-1856016000-1856035800@neuruppin.net
SUMMARY:Euphoria Dance Space - Kursangebot Neuruppin
DESCRIPTION:Euphoria Dance Space – Kursangebot (Hip Hop & Commercial)\n16:00 bis 17:00 Uhr – 6-9 Jahre \n17:00 bis 18:00 Uhr – 10-13 Jahre \n18:30 bis 19:30 Uhr – 14+ Jahre \n20:30 bis 21:30 Uhr – 30+ Jahre \n 
URL:https://neuruppin.net/event/euphoria-dance-space-kursangebot/2028-10-24/
LOCATION:Sportcenter Neuruppin\, Trenckmannstraße 1\, Neuruppin\, Brandenburg\, 16816\, Deutschland
CATEGORIES:Kinder,Tanz
ATTACH;FMTTYPE=image/png:https://neuruppin.net/wp-content/uploads/Logo-Euphoria-Dance-Space.png
ORGANIZER;CN="Euphoria%20Dance%20Space":MAILTO:info@euphoria-dance-space.de
END:VEVENT
BEGIN:VEVENT
DTSTART;TZID=Europe/Berlin:20281031T160000
DTEND;TZID=Europe/Berlin:20281031T213000
DTSTAMP:20260424T022920
CREATED:20260101T162410Z
LAST-MODIFIED:20260116T160603Z
UID:10014800-1856620800-1856640600@neuruppin.net
SUMMARY:Euphoria Dance Space - Kursangebot Neuruppin
DESCRIPTION:Euphoria Dance Space – Kursangebot (Hip Hop & Commercial)\n16:00 bis 17:00 Uhr – 6-9 Jahre \n17:00 bis 18:00 Uhr – 10-13 Jahre \n18:30 bis 19:30 Uhr – 14+ Jahre \n20:30 bis 21:30 Uhr – 30+ Jahre \n 
URL:https://neuruppin.net/event/euphoria-dance-space-kursangebot/2028-10-31/
LOCATION:Sportcenter Neuruppin\, Trenckmannstraße 1\, Neuruppin\, Brandenburg\, 16816\, Deutschland
CATEGORIES:Kinder,Tanz
ATTACH;FMTTYPE=image/png:https://neuruppin.net/wp-content/uploads/Logo-Euphoria-Dance-Space.png
ORGANIZER;CN="Euphoria%20Dance%20Space":MAILTO:info@euphoria-dance-space.de
END:VEVENT
END:VCALENDAR