BEGIN:VCALENDAR
VERSION:2.0
PRODID:-//neuruppin.net - ECPv6.0.13.1//NONSGML v1.0//EN
CALSCALE:GREGORIAN
METHOD:PUBLISH
X-WR-CALNAME:neuruppin.net
X-ORIGINAL-URL:https://neuruppin.net
X-WR-CALDESC:Veranstaltungen für neuruppin.net
REFRESH-INTERVAL;VALUE=DURATION:PT1H
X-Robots-Tag:noindex
X-PUBLISHED-TTL:PT1H
BEGIN:VTIMEZONE
TZID:Europe/Berlin
BEGIN:DAYLIGHT
TZOFFSETFROM:+0100
TZOFFSETTO:+0200
TZNAME:CEST
DTSTART:20260329T010000
END:DAYLIGHT
BEGIN:STANDARD
TZOFFSETFROM:+0200
TZOFFSETTO:+0100
TZNAME:CET
DTSTART:20261025T010000
END:STANDARD
BEGIN:DAYLIGHT
TZOFFSETFROM:+0100
TZOFFSETTO:+0200
TZNAME:CEST
DTSTART:20270328T010000
END:DAYLIGHT
BEGIN:STANDARD
TZOFFSETFROM:+0200
TZOFFSETTO:+0100
TZNAME:CET
DTSTART:20271031T010000
END:STANDARD
END:VTIMEZONE
BEGIN:VEVENT
DTSTART;TZID=Europe/Berlin:20261124T160000
DTEND;TZID=Europe/Berlin:20261124T213000
DTSTAMP:20260422T114016
CREATED:20260101T162410Z
LAST-MODIFIED:20260116T160603Z
UID:10014699-1795536000-1795555800@neuruppin.net
SUMMARY:Euphoria Dance Space - Kursangebot Neuruppin
DESCRIPTION:Euphoria Dance Space – Kursangebot (Hip Hop & Commercial)\n16:00 bis 17:00 Uhr – 6-9 Jahre \n17:00 bis 18:00 Uhr – 10-13 Jahre \n18:30 bis 19:30 Uhr – 14+ Jahre \n20:30 bis 21:30 Uhr – 30+ Jahre \n 
URL:https://neuruppin.net/event/euphoria-dance-space-kursangebot/2026-11-24/
LOCATION:Sportcenter Neuruppin\, Trenckmannstraße 1\, Neuruppin\, Brandenburg\, 16816\, Deutschland
CATEGORIES:Kinder,Tanz
ATTACH;FMTTYPE=image/png:https://neuruppin.net/wp-content/uploads/Logo-Euphoria-Dance-Space.png
ORGANIZER;CN="Euphoria%20Dance%20Space":MAILTO:info@euphoria-dance-space.de
END:VEVENT
BEGIN:VEVENT
DTSTART;TZID=Europe/Berlin:20261201T160000
DTEND;TZID=Europe/Berlin:20261201T213000
DTSTAMP:20260422T114016
CREATED:20260101T162410Z
LAST-MODIFIED:20260116T160603Z
UID:10014700-1796140800-1796160600@neuruppin.net
SUMMARY:Euphoria Dance Space - Kursangebot Neuruppin
DESCRIPTION:Euphoria Dance Space – Kursangebot (Hip Hop & Commercial)\n16:00 bis 17:00 Uhr – 6-9 Jahre \n17:00 bis 18:00 Uhr – 10-13 Jahre \n18:30 bis 19:30 Uhr – 14+ Jahre \n20:30 bis 21:30 Uhr – 30+ Jahre \n 
URL:https://neuruppin.net/event/euphoria-dance-space-kursangebot/2026-12-01/
LOCATION:Sportcenter Neuruppin\, Trenckmannstraße 1\, Neuruppin\, Brandenburg\, 16816\, Deutschland
CATEGORIES:Kinder,Tanz
ATTACH;FMTTYPE=image/png:https://neuruppin.net/wp-content/uploads/Logo-Euphoria-Dance-Space.png
ORGANIZER;CN="Euphoria%20Dance%20Space":MAILTO:info@euphoria-dance-space.de
END:VEVENT
BEGIN:VEVENT
DTSTART;TZID=Europe/Berlin:20261208T160000
DTEND;TZID=Europe/Berlin:20261208T213000
DTSTAMP:20260422T114016
CREATED:20260101T162410Z
LAST-MODIFIED:20260116T160603Z
UID:10014701-1796745600-1796765400@neuruppin.net
SUMMARY:Euphoria Dance Space - Kursangebot Neuruppin
DESCRIPTION:Euphoria Dance Space – Kursangebot (Hip Hop & Commercial)\n16:00 bis 17:00 Uhr – 6-9 Jahre \n17:00 bis 18:00 Uhr – 10-13 Jahre \n18:30 bis 19:30 Uhr – 14+ Jahre \n20:30 bis 21:30 Uhr – 30+ Jahre \n 
URL:https://neuruppin.net/event/euphoria-dance-space-kursangebot/2026-12-08/
LOCATION:Sportcenter Neuruppin\, Trenckmannstraße 1\, Neuruppin\, Brandenburg\, 16816\, Deutschland
CATEGORIES:Kinder,Tanz
ATTACH;FMTTYPE=image/png:https://neuruppin.net/wp-content/uploads/Logo-Euphoria-Dance-Space.png
ORGANIZER;CN="Euphoria%20Dance%20Space":MAILTO:info@euphoria-dance-space.de
END:VEVENT
BEGIN:VEVENT
DTSTART;TZID=Europe/Berlin:20261215T160000
DTEND;TZID=Europe/Berlin:20261215T213000
DTSTAMP:20260422T114016
CREATED:20260101T162410Z
LAST-MODIFIED:20260116T160603Z
UID:10014702-1797350400-1797370200@neuruppin.net
SUMMARY:Euphoria Dance Space - Kursangebot Neuruppin
DESCRIPTION:Euphoria Dance Space – Kursangebot (Hip Hop & Commercial)\n16:00 bis 17:00 Uhr – 6-9 Jahre \n17:00 bis 18:00 Uhr – 10-13 Jahre \n18:30 bis 19:30 Uhr – 14+ Jahre \n20:30 bis 21:30 Uhr – 30+ Jahre \n 
URL:https://neuruppin.net/event/euphoria-dance-space-kursangebot/2026-12-15/
LOCATION:Sportcenter Neuruppin\, Trenckmannstraße 1\, Neuruppin\, Brandenburg\, 16816\, Deutschland
CATEGORIES:Kinder,Tanz
ATTACH;FMTTYPE=image/png:https://neuruppin.net/wp-content/uploads/Logo-Euphoria-Dance-Space.png
ORGANIZER;CN="Euphoria%20Dance%20Space":MAILTO:info@euphoria-dance-space.de
END:VEVENT
BEGIN:VEVENT
DTSTART;TZID=Europe/Berlin:20261222T160000
DTEND;TZID=Europe/Berlin:20261222T213000
DTSTAMP:20260422T114016
CREATED:20260101T162410Z
LAST-MODIFIED:20260116T160603Z
UID:10014703-1797955200-1797975000@neuruppin.net
SUMMARY:Euphoria Dance Space - Kursangebot Neuruppin
DESCRIPTION:Euphoria Dance Space – Kursangebot (Hip Hop & Commercial)\n16:00 bis 17:00 Uhr – 6-9 Jahre \n17:00 bis 18:00 Uhr – 10-13 Jahre \n18:30 bis 19:30 Uhr – 14+ Jahre \n20:30 bis 21:30 Uhr – 30+ Jahre \n 
URL:https://neuruppin.net/event/euphoria-dance-space-kursangebot/2026-12-22/
LOCATION:Sportcenter Neuruppin\, Trenckmannstraße 1\, Neuruppin\, Brandenburg\, 16816\, Deutschland
CATEGORIES:Kinder,Tanz
ATTACH;FMTTYPE=image/png:https://neuruppin.net/wp-content/uploads/Logo-Euphoria-Dance-Space.png
ORGANIZER;CN="Euphoria%20Dance%20Space":MAILTO:info@euphoria-dance-space.de
END:VEVENT
BEGIN:VEVENT
DTSTART;TZID=Europe/Berlin:20261229T160000
DTEND;TZID=Europe/Berlin:20261229T213000
DTSTAMP:20260422T114016
CREATED:20260101T162410Z
LAST-MODIFIED:20260116T160603Z
UID:10014704-1798560000-1798579800@neuruppin.net
SUMMARY:Euphoria Dance Space - Kursangebot Neuruppin
DESCRIPTION:Euphoria Dance Space – Kursangebot (Hip Hop & Commercial)\n16:00 bis 17:00 Uhr – 6-9 Jahre \n17:00 bis 18:00 Uhr – 10-13 Jahre \n18:30 bis 19:30 Uhr – 14+ Jahre \n20:30 bis 21:30 Uhr – 30+ Jahre \n 
URL:https://neuruppin.net/event/euphoria-dance-space-kursangebot/2026-12-29/
LOCATION:Sportcenter Neuruppin\, Trenckmannstraße 1\, Neuruppin\, Brandenburg\, 16816\, Deutschland
CATEGORIES:Kinder,Tanz
ATTACH;FMTTYPE=image/png:https://neuruppin.net/wp-content/uploads/Logo-Euphoria-Dance-Space.png
ORGANIZER;CN="Euphoria%20Dance%20Space":MAILTO:info@euphoria-dance-space.de
END:VEVENT
BEGIN:VEVENT
DTSTART;TZID=Europe/Berlin:20270105T160000
DTEND;TZID=Europe/Berlin:20270105T213000
DTSTAMP:20260422T114016
CREATED:20260101T162410Z
LAST-MODIFIED:20260116T160603Z
UID:10014705-1799164800-1799184600@neuruppin.net
SUMMARY:Euphoria Dance Space - Kursangebot Neuruppin
DESCRIPTION:Euphoria Dance Space – Kursangebot (Hip Hop & Commercial)\n16:00 bis 17:00 Uhr – 6-9 Jahre \n17:00 bis 18:00 Uhr – 10-13 Jahre \n18:30 bis 19:30 Uhr – 14+ Jahre \n20:30 bis 21:30 Uhr – 30+ Jahre \n 
URL:https://neuruppin.net/event/euphoria-dance-space-kursangebot/2027-01-05/
LOCATION:Sportcenter Neuruppin\, Trenckmannstraße 1\, Neuruppin\, Brandenburg\, 16816\, Deutschland
CATEGORIES:Kinder,Tanz
ATTACH;FMTTYPE=image/png:https://neuruppin.net/wp-content/uploads/Logo-Euphoria-Dance-Space.png
ORGANIZER;CN="Euphoria%20Dance%20Space":MAILTO:info@euphoria-dance-space.de
END:VEVENT
BEGIN:VEVENT
DTSTART;TZID=Europe/Berlin:20270112T160000
DTEND;TZID=Europe/Berlin:20270112T213000
DTSTAMP:20260422T114016
CREATED:20260101T162410Z
LAST-MODIFIED:20260116T160603Z
UID:10014706-1799769600-1799789400@neuruppin.net
SUMMARY:Euphoria Dance Space - Kursangebot Neuruppin
DESCRIPTION:Euphoria Dance Space – Kursangebot (Hip Hop & Commercial)\n16:00 bis 17:00 Uhr – 6-9 Jahre \n17:00 bis 18:00 Uhr – 10-13 Jahre \n18:30 bis 19:30 Uhr – 14+ Jahre \n20:30 bis 21:30 Uhr – 30+ Jahre \n 
URL:https://neuruppin.net/event/euphoria-dance-space-kursangebot/2027-01-12/
LOCATION:Sportcenter Neuruppin\, Trenckmannstraße 1\, Neuruppin\, Brandenburg\, 16816\, Deutschland
CATEGORIES:Kinder,Tanz
ATTACH;FMTTYPE=image/png:https://neuruppin.net/wp-content/uploads/Logo-Euphoria-Dance-Space.png
ORGANIZER;CN="Euphoria%20Dance%20Space":MAILTO:info@euphoria-dance-space.de
END:VEVENT
BEGIN:VEVENT
DTSTART;TZID=Europe/Berlin:20270119T160000
DTEND;TZID=Europe/Berlin:20270119T213000
DTSTAMP:20260422T114016
CREATED:20260101T162410Z
LAST-MODIFIED:20260116T160603Z
UID:10014707-1800374400-1800394200@neuruppin.net
SUMMARY:Euphoria Dance Space - Kursangebot Neuruppin
DESCRIPTION:Euphoria Dance Space – Kursangebot (Hip Hop & Commercial)\n16:00 bis 17:00 Uhr – 6-9 Jahre \n17:00 bis 18:00 Uhr – 10-13 Jahre \n18:30 bis 19:30 Uhr – 14+ Jahre \n20:30 bis 21:30 Uhr – 30+ Jahre \n 
URL:https://neuruppin.net/event/euphoria-dance-space-kursangebot/2027-01-19/
LOCATION:Sportcenter Neuruppin\, Trenckmannstraße 1\, Neuruppin\, Brandenburg\, 16816\, Deutschland
CATEGORIES:Kinder,Tanz
ATTACH;FMTTYPE=image/png:https://neuruppin.net/wp-content/uploads/Logo-Euphoria-Dance-Space.png
ORGANIZER;CN="Euphoria%20Dance%20Space":MAILTO:info@euphoria-dance-space.de
END:VEVENT
BEGIN:VEVENT
DTSTART;TZID=Europe/Berlin:20270126T160000
DTEND;TZID=Europe/Berlin:20270126T213000
DTSTAMP:20260422T114016
CREATED:20260101T162410Z
LAST-MODIFIED:20260116T160603Z
UID:10014708-1800979200-1800999000@neuruppin.net
SUMMARY:Euphoria Dance Space - Kursangebot Neuruppin
DESCRIPTION:Euphoria Dance Space – Kursangebot (Hip Hop & Commercial)\n16:00 bis 17:00 Uhr – 6-9 Jahre \n17:00 bis 18:00 Uhr – 10-13 Jahre \n18:30 bis 19:30 Uhr – 14+ Jahre \n20:30 bis 21:30 Uhr – 30+ Jahre \n 
URL:https://neuruppin.net/event/euphoria-dance-space-kursangebot/2027-01-26/
LOCATION:Sportcenter Neuruppin\, Trenckmannstraße 1\, Neuruppin\, Brandenburg\, 16816\, Deutschland
CATEGORIES:Kinder,Tanz
ATTACH;FMTTYPE=image/png:https://neuruppin.net/wp-content/uploads/Logo-Euphoria-Dance-Space.png
ORGANIZER;CN="Euphoria%20Dance%20Space":MAILTO:info@euphoria-dance-space.de
END:VEVENT
BEGIN:VEVENT
DTSTART;TZID=Europe/Berlin:20270202T160000
DTEND;TZID=Europe/Berlin:20270202T213000
DTSTAMP:20260422T114016
CREATED:20260101T162410Z
LAST-MODIFIED:20260116T160603Z
UID:10014709-1801584000-1801603800@neuruppin.net
SUMMARY:Euphoria Dance Space - Kursangebot Neuruppin
DESCRIPTION:Euphoria Dance Space – Kursangebot (Hip Hop & Commercial)\n16:00 bis 17:00 Uhr – 6-9 Jahre \n17:00 bis 18:00 Uhr – 10-13 Jahre \n18:30 bis 19:30 Uhr – 14+ Jahre \n20:30 bis 21:30 Uhr – 30+ Jahre \n 
URL:https://neuruppin.net/event/euphoria-dance-space-kursangebot/2027-02-02/
LOCATION:Sportcenter Neuruppin\, Trenckmannstraße 1\, Neuruppin\, Brandenburg\, 16816\, Deutschland
CATEGORIES:Kinder,Tanz
ATTACH;FMTTYPE=image/png:https://neuruppin.net/wp-content/uploads/Logo-Euphoria-Dance-Space.png
ORGANIZER;CN="Euphoria%20Dance%20Space":MAILTO:info@euphoria-dance-space.de
END:VEVENT
BEGIN:VEVENT
DTSTART;TZID=Europe/Berlin:20270209T160000
DTEND;TZID=Europe/Berlin:20270209T213000
DTSTAMP:20260422T114016
CREATED:20260101T162410Z
LAST-MODIFIED:20260116T160603Z
UID:10014710-1802188800-1802208600@neuruppin.net
SUMMARY:Euphoria Dance Space - Kursangebot Neuruppin
DESCRIPTION:Euphoria Dance Space – Kursangebot (Hip Hop & Commercial)\n16:00 bis 17:00 Uhr – 6-9 Jahre \n17:00 bis 18:00 Uhr – 10-13 Jahre \n18:30 bis 19:30 Uhr – 14+ Jahre \n20:30 bis 21:30 Uhr – 30+ Jahre \n 
URL:https://neuruppin.net/event/euphoria-dance-space-kursangebot/2027-02-09/
LOCATION:Sportcenter Neuruppin\, Trenckmannstraße 1\, Neuruppin\, Brandenburg\, 16816\, Deutschland
CATEGORIES:Kinder,Tanz
ATTACH;FMTTYPE=image/png:https://neuruppin.net/wp-content/uploads/Logo-Euphoria-Dance-Space.png
ORGANIZER;CN="Euphoria%20Dance%20Space":MAILTO:info@euphoria-dance-space.de
END:VEVENT
BEGIN:VEVENT
DTSTART;TZID=Europe/Berlin:20270216T160000
DTEND;TZID=Europe/Berlin:20270216T213000
DTSTAMP:20260422T114016
CREATED:20260101T162410Z
LAST-MODIFIED:20260116T160603Z
UID:10014711-1802793600-1802813400@neuruppin.net
SUMMARY:Euphoria Dance Space - Kursangebot Neuruppin
DESCRIPTION:Euphoria Dance Space – Kursangebot (Hip Hop & Commercial)\n16:00 bis 17:00 Uhr – 6-9 Jahre \n17:00 bis 18:00 Uhr – 10-13 Jahre \n18:30 bis 19:30 Uhr – 14+ Jahre \n20:30 bis 21:30 Uhr – 30+ Jahre \n 
URL:https://neuruppin.net/event/euphoria-dance-space-kursangebot/2027-02-16/
LOCATION:Sportcenter Neuruppin\, Trenckmannstraße 1\, Neuruppin\, Brandenburg\, 16816\, Deutschland
CATEGORIES:Kinder,Tanz
ATTACH;FMTTYPE=image/png:https://neuruppin.net/wp-content/uploads/Logo-Euphoria-Dance-Space.png
ORGANIZER;CN="Euphoria%20Dance%20Space":MAILTO:info@euphoria-dance-space.de
END:VEVENT
BEGIN:VEVENT
DTSTART;TZID=Europe/Berlin:20270223T160000
DTEND;TZID=Europe/Berlin:20270223T213000
DTSTAMP:20260422T114016
CREATED:20260101T162410Z
LAST-MODIFIED:20260116T160603Z
UID:10014712-1803398400-1803418200@neuruppin.net
SUMMARY:Euphoria Dance Space - Kursangebot Neuruppin
DESCRIPTION:Euphoria Dance Space – Kursangebot (Hip Hop & Commercial)\n16:00 bis 17:00 Uhr – 6-9 Jahre \n17:00 bis 18:00 Uhr – 10-13 Jahre \n18:30 bis 19:30 Uhr – 14+ Jahre \n20:30 bis 21:30 Uhr – 30+ Jahre \n 
URL:https://neuruppin.net/event/euphoria-dance-space-kursangebot/2027-02-23/
LOCATION:Sportcenter Neuruppin\, Trenckmannstraße 1\, Neuruppin\, Brandenburg\, 16816\, Deutschland
CATEGORIES:Kinder,Tanz
ATTACH;FMTTYPE=image/png:https://neuruppin.net/wp-content/uploads/Logo-Euphoria-Dance-Space.png
ORGANIZER;CN="Euphoria%20Dance%20Space":MAILTO:info@euphoria-dance-space.de
END:VEVENT
BEGIN:VEVENT
DTSTART;TZID=Europe/Berlin:20270302T160000
DTEND;TZID=Europe/Berlin:20270302T213000
DTSTAMP:20260422T114016
CREATED:20260101T162410Z
LAST-MODIFIED:20260116T160603Z
UID:10014713-1804003200-1804023000@neuruppin.net
SUMMARY:Euphoria Dance Space - Kursangebot Neuruppin
DESCRIPTION:Euphoria Dance Space – Kursangebot (Hip Hop & Commercial)\n16:00 bis 17:00 Uhr – 6-9 Jahre \n17:00 bis 18:00 Uhr – 10-13 Jahre \n18:30 bis 19:30 Uhr – 14+ Jahre \n20:30 bis 21:30 Uhr – 30+ Jahre \n 
URL:https://neuruppin.net/event/euphoria-dance-space-kursangebot/2027-03-02/
LOCATION:Sportcenter Neuruppin\, Trenckmannstraße 1\, Neuruppin\, Brandenburg\, 16816\, Deutschland
CATEGORIES:Kinder,Tanz
ATTACH;FMTTYPE=image/png:https://neuruppin.net/wp-content/uploads/Logo-Euphoria-Dance-Space.png
ORGANIZER;CN="Euphoria%20Dance%20Space":MAILTO:info@euphoria-dance-space.de
END:VEVENT
BEGIN:VEVENT
DTSTART;TZID=Europe/Berlin:20270309T160000
DTEND;TZID=Europe/Berlin:20270309T213000
DTSTAMP:20260422T114016
CREATED:20260101T162410Z
LAST-MODIFIED:20260116T160603Z
UID:10014714-1804608000-1804627800@neuruppin.net
SUMMARY:Euphoria Dance Space - Kursangebot Neuruppin
DESCRIPTION:Euphoria Dance Space – Kursangebot (Hip Hop & Commercial)\n16:00 bis 17:00 Uhr – 6-9 Jahre \n17:00 bis 18:00 Uhr – 10-13 Jahre \n18:30 bis 19:30 Uhr – 14+ Jahre \n20:30 bis 21:30 Uhr – 30+ Jahre \n 
URL:https://neuruppin.net/event/euphoria-dance-space-kursangebot/2027-03-09/
LOCATION:Sportcenter Neuruppin\, Trenckmannstraße 1\, Neuruppin\, Brandenburg\, 16816\, Deutschland
CATEGORIES:Kinder,Tanz
ATTACH;FMTTYPE=image/png:https://neuruppin.net/wp-content/uploads/Logo-Euphoria-Dance-Space.png
ORGANIZER;CN="Euphoria%20Dance%20Space":MAILTO:info@euphoria-dance-space.de
END:VEVENT
BEGIN:VEVENT
DTSTART;TZID=Europe/Berlin:20270316T160000
DTEND;TZID=Europe/Berlin:20270316T213000
DTSTAMP:20260422T114016
CREATED:20260101T162410Z
LAST-MODIFIED:20260116T160603Z
UID:10014715-1805212800-1805232600@neuruppin.net
SUMMARY:Euphoria Dance Space - Kursangebot Neuruppin
DESCRIPTION:Euphoria Dance Space – Kursangebot (Hip Hop & Commercial)\n16:00 bis 17:00 Uhr – 6-9 Jahre \n17:00 bis 18:00 Uhr – 10-13 Jahre \n18:30 bis 19:30 Uhr – 14+ Jahre \n20:30 bis 21:30 Uhr – 30+ Jahre \n 
URL:https://neuruppin.net/event/euphoria-dance-space-kursangebot/2027-03-16/
LOCATION:Sportcenter Neuruppin\, Trenckmannstraße 1\, Neuruppin\, Brandenburg\, 16816\, Deutschland
CATEGORIES:Kinder,Tanz
ATTACH;FMTTYPE=image/png:https://neuruppin.net/wp-content/uploads/Logo-Euphoria-Dance-Space.png
ORGANIZER;CN="Euphoria%20Dance%20Space":MAILTO:info@euphoria-dance-space.de
END:VEVENT
BEGIN:VEVENT
DTSTART;TZID=Europe/Berlin:20270323T160000
DTEND;TZID=Europe/Berlin:20270323T213000
DTSTAMP:20260422T114016
CREATED:20260101T162410Z
LAST-MODIFIED:20260116T160603Z
UID:10014716-1805817600-1805837400@neuruppin.net
SUMMARY:Euphoria Dance Space - Kursangebot Neuruppin
DESCRIPTION:Euphoria Dance Space – Kursangebot (Hip Hop & Commercial)\n16:00 bis 17:00 Uhr – 6-9 Jahre \n17:00 bis 18:00 Uhr – 10-13 Jahre \n18:30 bis 19:30 Uhr – 14+ Jahre \n20:30 bis 21:30 Uhr – 30+ Jahre \n 
URL:https://neuruppin.net/event/euphoria-dance-space-kursangebot/2027-03-23/
LOCATION:Sportcenter Neuruppin\, Trenckmannstraße 1\, Neuruppin\, Brandenburg\, 16816\, Deutschland
CATEGORIES:Kinder,Tanz
ATTACH;FMTTYPE=image/png:https://neuruppin.net/wp-content/uploads/Logo-Euphoria-Dance-Space.png
ORGANIZER;CN="Euphoria%20Dance%20Space":MAILTO:info@euphoria-dance-space.de
END:VEVENT
BEGIN:VEVENT
DTSTART;TZID=Europe/Berlin:20270330T160000
DTEND;TZID=Europe/Berlin:20270330T213000
DTSTAMP:20260422T114016
CREATED:20260101T162410Z
LAST-MODIFIED:20260116T160603Z
UID:10014717-1806422400-1806442200@neuruppin.net
SUMMARY:Euphoria Dance Space - Kursangebot Neuruppin
DESCRIPTION:Euphoria Dance Space – Kursangebot (Hip Hop & Commercial)\n16:00 bis 17:00 Uhr – 6-9 Jahre \n17:00 bis 18:00 Uhr – 10-13 Jahre \n18:30 bis 19:30 Uhr – 14+ Jahre \n20:30 bis 21:30 Uhr – 30+ Jahre \n 
URL:https://neuruppin.net/event/euphoria-dance-space-kursangebot/2027-03-30/
LOCATION:Sportcenter Neuruppin\, Trenckmannstraße 1\, Neuruppin\, Brandenburg\, 16816\, Deutschland
CATEGORIES:Kinder,Tanz
ATTACH;FMTTYPE=image/png:https://neuruppin.net/wp-content/uploads/Logo-Euphoria-Dance-Space.png
ORGANIZER;CN="Euphoria%20Dance%20Space":MAILTO:info@euphoria-dance-space.de
END:VEVENT
BEGIN:VEVENT
DTSTART;TZID=Europe/Berlin:20270406T160000
DTEND;TZID=Europe/Berlin:20270406T213000
DTSTAMP:20260422T114016
CREATED:20260101T162410Z
LAST-MODIFIED:20260116T160603Z
UID:10014718-1807027200-1807047000@neuruppin.net
SUMMARY:Euphoria Dance Space - Kursangebot Neuruppin
DESCRIPTION:Euphoria Dance Space – Kursangebot (Hip Hop & Commercial)\n16:00 bis 17:00 Uhr – 6-9 Jahre \n17:00 bis 18:00 Uhr – 10-13 Jahre \n18:30 bis 19:30 Uhr – 14+ Jahre \n20:30 bis 21:30 Uhr – 30+ Jahre \n 
URL:https://neuruppin.net/event/euphoria-dance-space-kursangebot/2027-04-06/
LOCATION:Sportcenter Neuruppin\, Trenckmannstraße 1\, Neuruppin\, Brandenburg\, 16816\, Deutschland
CATEGORIES:Kinder,Tanz
ATTACH;FMTTYPE=image/png:https://neuruppin.net/wp-content/uploads/Logo-Euphoria-Dance-Space.png
ORGANIZER;CN="Euphoria%20Dance%20Space":MAILTO:info@euphoria-dance-space.de
END:VEVENT
BEGIN:VEVENT
DTSTART;TZID=Europe/Berlin:20270413T160000
DTEND;TZID=Europe/Berlin:20270413T213000
DTSTAMP:20260422T114016
CREATED:20260101T162410Z
LAST-MODIFIED:20260116T160603Z
UID:10014719-1807632000-1807651800@neuruppin.net
SUMMARY:Euphoria Dance Space - Kursangebot Neuruppin
DESCRIPTION:Euphoria Dance Space – Kursangebot (Hip Hop & Commercial)\n16:00 bis 17:00 Uhr – 6-9 Jahre \n17:00 bis 18:00 Uhr – 10-13 Jahre \n18:30 bis 19:30 Uhr – 14+ Jahre \n20:30 bis 21:30 Uhr – 30+ Jahre \n 
URL:https://neuruppin.net/event/euphoria-dance-space-kursangebot/2027-04-13/
LOCATION:Sportcenter Neuruppin\, Trenckmannstraße 1\, Neuruppin\, Brandenburg\, 16816\, Deutschland
CATEGORIES:Kinder,Tanz
ATTACH;FMTTYPE=image/png:https://neuruppin.net/wp-content/uploads/Logo-Euphoria-Dance-Space.png
ORGANIZER;CN="Euphoria%20Dance%20Space":MAILTO:info@euphoria-dance-space.de
END:VEVENT
BEGIN:VEVENT
DTSTART;TZID=Europe/Berlin:20270420T160000
DTEND;TZID=Europe/Berlin:20270420T213000
DTSTAMP:20260422T114016
CREATED:20260101T162410Z
LAST-MODIFIED:20260116T160603Z
UID:10014720-1808236800-1808256600@neuruppin.net
SUMMARY:Euphoria Dance Space - Kursangebot Neuruppin
DESCRIPTION:Euphoria Dance Space – Kursangebot (Hip Hop & Commercial)\n16:00 bis 17:00 Uhr – 6-9 Jahre \n17:00 bis 18:00 Uhr – 10-13 Jahre \n18:30 bis 19:30 Uhr – 14+ Jahre \n20:30 bis 21:30 Uhr – 30+ Jahre \n 
URL:https://neuruppin.net/event/euphoria-dance-space-kursangebot/2027-04-20/
LOCATION:Sportcenter Neuruppin\, Trenckmannstraße 1\, Neuruppin\, Brandenburg\, 16816\, Deutschland
CATEGORIES:Kinder,Tanz
ATTACH;FMTTYPE=image/png:https://neuruppin.net/wp-content/uploads/Logo-Euphoria-Dance-Space.png
ORGANIZER;CN="Euphoria%20Dance%20Space":MAILTO:info@euphoria-dance-space.de
END:VEVENT
BEGIN:VEVENT
DTSTART;TZID=Europe/Berlin:20270427T160000
DTEND;TZID=Europe/Berlin:20270427T213000
DTSTAMP:20260422T114016
CREATED:20260101T162410Z
LAST-MODIFIED:20260116T160603Z
UID:10014721-1808841600-1808861400@neuruppin.net
SUMMARY:Euphoria Dance Space - Kursangebot Neuruppin
DESCRIPTION:Euphoria Dance Space – Kursangebot (Hip Hop & Commercial)\n16:00 bis 17:00 Uhr – 6-9 Jahre \n17:00 bis 18:00 Uhr – 10-13 Jahre \n18:30 bis 19:30 Uhr – 14+ Jahre \n20:30 bis 21:30 Uhr – 30+ Jahre \n 
URL:https://neuruppin.net/event/euphoria-dance-space-kursangebot/2027-04-27/
LOCATION:Sportcenter Neuruppin\, Trenckmannstraße 1\, Neuruppin\, Brandenburg\, 16816\, Deutschland
CATEGORIES:Kinder,Tanz
ATTACH;FMTTYPE=image/png:https://neuruppin.net/wp-content/uploads/Logo-Euphoria-Dance-Space.png
ORGANIZER;CN="Euphoria%20Dance%20Space":MAILTO:info@euphoria-dance-space.de
END:VEVENT
BEGIN:VEVENT
DTSTART;TZID=Europe/Berlin:20270504T160000
DTEND;TZID=Europe/Berlin:20270504T213000
DTSTAMP:20260422T114016
CREATED:20260101T162410Z
LAST-MODIFIED:20260116T160603Z
UID:10014722-1809446400-1809466200@neuruppin.net
SUMMARY:Euphoria Dance Space - Kursangebot Neuruppin
DESCRIPTION:Euphoria Dance Space – Kursangebot (Hip Hop & Commercial)\n16:00 bis 17:00 Uhr – 6-9 Jahre \n17:00 bis 18:00 Uhr – 10-13 Jahre \n18:30 bis 19:30 Uhr – 14+ Jahre \n20:30 bis 21:30 Uhr – 30+ Jahre \n 
URL:https://neuruppin.net/event/euphoria-dance-space-kursangebot/2027-05-04/
LOCATION:Sportcenter Neuruppin\, Trenckmannstraße 1\, Neuruppin\, Brandenburg\, 16816\, Deutschland
CATEGORIES:Kinder,Tanz
ATTACH;FMTTYPE=image/png:https://neuruppin.net/wp-content/uploads/Logo-Euphoria-Dance-Space.png
ORGANIZER;CN="Euphoria%20Dance%20Space":MAILTO:info@euphoria-dance-space.de
END:VEVENT
BEGIN:VEVENT
DTSTART;TZID=Europe/Berlin:20270511T160000
DTEND;TZID=Europe/Berlin:20270511T213000
DTSTAMP:20260422T114016
CREATED:20260101T162410Z
LAST-MODIFIED:20260116T160603Z
UID:10014723-1810051200-1810071000@neuruppin.net
SUMMARY:Euphoria Dance Space - Kursangebot Neuruppin
DESCRIPTION:Euphoria Dance Space – Kursangebot (Hip Hop & Commercial)\n16:00 bis 17:00 Uhr – 6-9 Jahre \n17:00 bis 18:00 Uhr – 10-13 Jahre \n18:30 bis 19:30 Uhr – 14+ Jahre \n20:30 bis 21:30 Uhr – 30+ Jahre \n 
URL:https://neuruppin.net/event/euphoria-dance-space-kursangebot/2027-05-11/
LOCATION:Sportcenter Neuruppin\, Trenckmannstraße 1\, Neuruppin\, Brandenburg\, 16816\, Deutschland
CATEGORIES:Kinder,Tanz
ATTACH;FMTTYPE=image/png:https://neuruppin.net/wp-content/uploads/Logo-Euphoria-Dance-Space.png
ORGANIZER;CN="Euphoria%20Dance%20Space":MAILTO:info@euphoria-dance-space.de
END:VEVENT
BEGIN:VEVENT
DTSTART;TZID=Europe/Berlin:20270518T160000
DTEND;TZID=Europe/Berlin:20270518T213000
DTSTAMP:20260422T114016
CREATED:20260101T162410Z
LAST-MODIFIED:20260116T160603Z
UID:10014724-1810656000-1810675800@neuruppin.net
SUMMARY:Euphoria Dance Space - Kursangebot Neuruppin
DESCRIPTION:Euphoria Dance Space – Kursangebot (Hip Hop & Commercial)\n16:00 bis 17:00 Uhr – 6-9 Jahre \n17:00 bis 18:00 Uhr – 10-13 Jahre \n18:30 bis 19:30 Uhr – 14+ Jahre \n20:30 bis 21:30 Uhr – 30+ Jahre \n 
URL:https://neuruppin.net/event/euphoria-dance-space-kursangebot/2027-05-18/
LOCATION:Sportcenter Neuruppin\, Trenckmannstraße 1\, Neuruppin\, Brandenburg\, 16816\, Deutschland
CATEGORIES:Kinder,Tanz
ATTACH;FMTTYPE=image/png:https://neuruppin.net/wp-content/uploads/Logo-Euphoria-Dance-Space.png
ORGANIZER;CN="Euphoria%20Dance%20Space":MAILTO:info@euphoria-dance-space.de
END:VEVENT
BEGIN:VEVENT
DTSTART;TZID=Europe/Berlin:20270525T160000
DTEND;TZID=Europe/Berlin:20270525T213000
DTSTAMP:20260422T114016
CREATED:20260101T162410Z
LAST-MODIFIED:20260116T160603Z
UID:10014725-1811260800-1811280600@neuruppin.net
SUMMARY:Euphoria Dance Space - Kursangebot Neuruppin
DESCRIPTION:Euphoria Dance Space – Kursangebot (Hip Hop & Commercial)\n16:00 bis 17:00 Uhr – 6-9 Jahre \n17:00 bis 18:00 Uhr – 10-13 Jahre \n18:30 bis 19:30 Uhr – 14+ Jahre \n20:30 bis 21:30 Uhr – 30+ Jahre \n 
URL:https://neuruppin.net/event/euphoria-dance-space-kursangebot/2027-05-25/
LOCATION:Sportcenter Neuruppin\, Trenckmannstraße 1\, Neuruppin\, Brandenburg\, 16816\, Deutschland
CATEGORIES:Kinder,Tanz
ATTACH;FMTTYPE=image/png:https://neuruppin.net/wp-content/uploads/Logo-Euphoria-Dance-Space.png
ORGANIZER;CN="Euphoria%20Dance%20Space":MAILTO:info@euphoria-dance-space.de
END:VEVENT
BEGIN:VEVENT
DTSTART;TZID=Europe/Berlin:20270601T160000
DTEND;TZID=Europe/Berlin:20270601T213000
DTSTAMP:20260422T114016
CREATED:20260101T162410Z
LAST-MODIFIED:20260116T160603Z
UID:10014726-1811865600-1811885400@neuruppin.net
SUMMARY:Euphoria Dance Space - Kursangebot Neuruppin
DESCRIPTION:Euphoria Dance Space – Kursangebot (Hip Hop & Commercial)\n16:00 bis 17:00 Uhr – 6-9 Jahre \n17:00 bis 18:00 Uhr – 10-13 Jahre \n18:30 bis 19:30 Uhr – 14+ Jahre \n20:30 bis 21:30 Uhr – 30+ Jahre \n 
URL:https://neuruppin.net/event/euphoria-dance-space-kursangebot/2027-06-01/
LOCATION:Sportcenter Neuruppin\, Trenckmannstraße 1\, Neuruppin\, Brandenburg\, 16816\, Deutschland
CATEGORIES:Kinder,Tanz
ATTACH;FMTTYPE=image/png:https://neuruppin.net/wp-content/uploads/Logo-Euphoria-Dance-Space.png
ORGANIZER;CN="Euphoria%20Dance%20Space":MAILTO:info@euphoria-dance-space.de
END:VEVENT
BEGIN:VEVENT
DTSTART;TZID=Europe/Berlin:20270608T160000
DTEND;TZID=Europe/Berlin:20270608T213000
DTSTAMP:20260422T114016
CREATED:20260101T162410Z
LAST-MODIFIED:20260116T160603Z
UID:10014727-1812470400-1812490200@neuruppin.net
SUMMARY:Euphoria Dance Space - Kursangebot Neuruppin
DESCRIPTION:Euphoria Dance Space – Kursangebot (Hip Hop & Commercial)\n16:00 bis 17:00 Uhr – 6-9 Jahre \n17:00 bis 18:00 Uhr – 10-13 Jahre \n18:30 bis 19:30 Uhr – 14+ Jahre \n20:30 bis 21:30 Uhr – 30+ Jahre \n 
URL:https://neuruppin.net/event/euphoria-dance-space-kursangebot/2027-06-08/
LOCATION:Sportcenter Neuruppin\, Trenckmannstraße 1\, Neuruppin\, Brandenburg\, 16816\, Deutschland
CATEGORIES:Kinder,Tanz
ATTACH;FMTTYPE=image/png:https://neuruppin.net/wp-content/uploads/Logo-Euphoria-Dance-Space.png
ORGANIZER;CN="Euphoria%20Dance%20Space":MAILTO:info@euphoria-dance-space.de
END:VEVENT
BEGIN:VEVENT
DTSTART;TZID=Europe/Berlin:20270615T160000
DTEND;TZID=Europe/Berlin:20270615T213000
DTSTAMP:20260422T114016
CREATED:20260101T162410Z
LAST-MODIFIED:20260116T160603Z
UID:10014728-1813075200-1813095000@neuruppin.net
SUMMARY:Euphoria Dance Space - Kursangebot Neuruppin
DESCRIPTION:Euphoria Dance Space – Kursangebot (Hip Hop & Commercial)\n16:00 bis 17:00 Uhr – 6-9 Jahre \n17:00 bis 18:00 Uhr – 10-13 Jahre \n18:30 bis 19:30 Uhr – 14+ Jahre \n20:30 bis 21:30 Uhr – 30+ Jahre \n 
URL:https://neuruppin.net/event/euphoria-dance-space-kursangebot/2027-06-15/
LOCATION:Sportcenter Neuruppin\, Trenckmannstraße 1\, Neuruppin\, Brandenburg\, 16816\, Deutschland
CATEGORIES:Kinder,Tanz
ATTACH;FMTTYPE=image/png:https://neuruppin.net/wp-content/uploads/Logo-Euphoria-Dance-Space.png
ORGANIZER;CN="Euphoria%20Dance%20Space":MAILTO:info@euphoria-dance-space.de
END:VEVENT
END:VCALENDAR