BEGIN:VCALENDAR
VERSION:2.0
PRODID:-//neuruppin.net - ECPv6.0.13.1//NONSGML v1.0//EN
CALSCALE:GREGORIAN
METHOD:PUBLISH
X-ORIGINAL-URL:https://neuruppin.net
X-WR-CALDESC:Veranstaltungen für neuruppin.net
REFRESH-INTERVAL;VALUE=DURATION:PT1H
X-Robots-Tag:noindex
X-PUBLISHED-TTL:PT1H
BEGIN:VTIMEZONE
TZID:Europe/Berlin
BEGIN:DAYLIGHT
TZOFFSETFROM:+0100
TZOFFSETTO:+0200
TZNAME:CEST
DTSTART:20260329T010000
END:DAYLIGHT
BEGIN:STANDARD
TZOFFSETFROM:+0200
TZOFFSETTO:+0100
TZNAME:CET
DTSTART:20261025T010000
END:STANDARD
END:VTIMEZONE
BEGIN:VEVENT
DTSTART;TZID=Europe/Berlin:20260422T140000
DTEND;TZID=Europe/Berlin:20260422T140000
DTSTAMP:20260421T170702
CREATED:20260421T092538Z
LAST-MODIFIED:20260421T092538Z
UID:10018823-1776866400-1776866400@neuruppin.net
SUMMARY:Kunstworkshop & Kunstspaziergang mit Rupprecht Matthies in Neuruppin
DESCRIPTION:Kunstworkshop & Kunstspaziergang mit Rupprecht Matthies in Neuruppin\nAm Mittwoch\, 22. April\, kommt der Künstler Rupprecht Matthies aus Hamburg wieder nach Neuruppin. Er hat in den vergangenen Jahren viele Kunstwerke im Neuruppiner Neubaugebiet geschaffen – einen Teil davon mit den Anwohnern zusammen. Im Rahmen des Projektes „Kunst unterwegs“ lädt er am Mittwoch\, 22. April\, um 14 Uhr zu einem Kunstworkshop und um 16 Uhr zu einem Kunstspaziergang durchs Neubaugebiet ein. \n\n„Neuauflage“ nennt er seinen anderthalbstündigen Workshop\, der am Mittwoch um 14 Uhr auf dem Bauspielplatz hinter der Fontaneschule beginnt. Dabei fertigt er mit den Besuchern keramische Motivfliesen aus Ton\, die später getrocknet und gebrannt werden. Die schon vorbereiteten\, feuchten Fliese zum Selbstgestalten bringt er mit. \n\n„Neuauflage“ deswegen\, weil Rupprecht Matthies in den Jahren 2004 und 2005 mit 800 Neuruppinern schon einmal Motivfliesen gefertigt hat. Einige davon sind noch heute im Mehrgenerationenhaus Krümelkiste oder im Evangelischen Gymnasium zu sehen. \n\nDer Workshop am 22. April ist für jedermann\, ob groß\, ob klein\, ob jung\, ob alt geeignet. Man kann ohne Vorkenntnisse teilnehmen und gern Freunde mitbringen. Alles Notwendige wird im Workshop erklärt und das Werkzeug wird gestellt. Das Motiv für die Fliese kann jeder frei wählen. Nach dem Brennen erhalten alle Teilnehmer ihr eigene Fliese zurück. Der Workshop ist kostenfrei. Rupprecht Matthies freut sich auf viele Besucher. \n\nUm 16 Uhr lädt Rupprecht Matthies zum Spaziergang „Kunst unterwegs“ durch das Neuruppiner Neubaugebiet ein. Treffpunkt ist das Mehrgenerationenhaus Krümelkiste in der Otto-Grotewohl-Straße 1A. Gemeinsam mit den Anwohnern und Gästen macht er sich auf den Weg\, Skulpturen\, Wandbilder und Reliefs zu entdecken\, die die Wohngebiete entlang der Heinrich-Rau-Straße schmücken. Viele Neuruppiner gehen fast jeden Tag daran vorbei. Der Spaziergang soll dazu motivieren\, die Werke\, die uns umgeben\, bewusst wahrzunehmen und auch ihre Geschichten kennenzulernen. \nVon Rupprecht Matthies stammen zum Beispiel die Wortbilder „zusammen“\, „leben“\, „gemeinsam“ oder „Hallo“\, die uns täglich ein Lächeln ins Gesicht zaubern. Ebenso seine farbenfrohen Blumenwandbilder an den Giebeln des Wohnblockes Heinrich-Rau-Straße 5 – 14. Wie entstehen zum Beispiel solche großen Wandmalereien? Matthies wird davon erzählen. \nAber auch andere Werke begegnen uns im Neubaugebiet: z.B. ein Relief der Künstlerin Dagmar Elsner-Schwintowsky über dem Eingang der Sporthalle der Karl-Liebknecht-Schule\, die aus Granit geschaffene „Erde“ vor dem Einkaufszentrum REIZ\, Schülerkunstwerke oder Street Art in der Junckerstraße. \nUm 16 Uhr geht’s los. Auch dieser Spaziergang ist kostenfrei und für alle Altersgruppen geeignet.
URL:https://neuruppin.net/event/kunstworkshop-kunstspaziergang/
LOCATION:Mehrgenerationenhaus Krümelkiste\, Bauspielplatz\, Neuruppin\, Brandenburg\, 16816\, Deutschland
CATEGORIES:Ausstellung,Galerie,Gesprächsrunde,Kultur,Kunstmarkt,Open Air
ATTACH;FMTTYPE=image/png:https://neuruppin.net/wp-content/uploads/Kunst-unterwegs-Quadrat.png
END:VEVENT
END:VCALENDAR